BEGIN:VCALENDAR
VERSION:2.0
X-WR-TIMEZONE:America/Guadeloupe
CALSCALE:GREGORIAN
PRODID:-//IPEOS/Calendar//NONSGML v1.0//FR
X-WR-CALNAME;VALUE=TEXT:Sainte-Anne - CULTURE DANS LA VILLE - Octobre 2019
X-WR-CALDESC: La ville de Sainte-Anne vous présente l’offre culturelle et artistique du mois d’octobre   Rendez-vous au Centre culturel de la ville et à la bibliothèque municipale Osange Talis Gane pour participer aux évènements. 
X-WR-RELCALID:vivre-a-sainte-anne/culture-dans-la-ville/programme-mensuel-des-animations-de-la-ville/article/culture-dans-la-ville-octobre-2019
BEGIN:VEVENT
SUMMARY:FESTIVAL DU FILM DES DROITS DE L’HOMME « MONDES EN VUE »
UID:evenement498 @ https://www.ville-sainteanne.fr
DTSTAMP:20190926T152813Z
DTSTART:20191011T230000Z
DTEND:20191012T010000Z
CREATED:20190926T152813Z
LAST-MODIFIED:20191004T184512Z
LOCATION:Auditorium du Centre de ressources
DESCRIPTION:Projections de films suivies d’un débat en présence d’intervenants qualifiés. Films : The book of Jasmine (14 min) : Jasmine est attirée par une femme ce qui lui semble être en contradiction avec sa foi. Elle tente de réprimer ses désirs par le biais d’un rituel spirituel. Coming out (63’) : À travers un montage de vidéos bouleversantes filmées par des jeunes du monde entier\, Coming Out nous fait vivre au plus près ce moment de basculement intime\, et social\, qu’est le coming out.
CATEGORIES:CULTURE DANS LA VILLE - Octobre 2019
URL:https://www.ville-sainteanne.fr/vivre-a-sainte-anne/culture-dans-la-ville/programme-mensuel-des-animations-de-la-ville/article/culture-dans-la-ville-octobre-2019?id_evenement=498

STATUS:CONFIRMED
END:VEVENT
END:VCALENDAR

