BEGIN:VCALENDAR
VERSION:2.0
X-WR-TIMEZONE:America/Guadeloupe
CALSCALE:GREGORIAN
PRODID:-//IPEOS/Calendar//NONSGML v1.0//FR
X-WR-CALNAME;VALUE=TEXT:Sainte-Anne - Les Rdv économiques de la CARL
X-WR-CALDESC:A l’attention des socioprofessionnels agricoles
X-WR-RELCALID:vivre-a-sainte-anne/vie-economique/les-rdv-eco/article/rendez-vous-economiques-de-la-riviera-du-levant
BEGIN:VEVENT
SUMMARY:Rdv éco de l'agriculture\, de l'agro-transformation et de l'agritourisme
UID:evenement501 @ https://www.ville-sainteanne.fr
DTSTAMP:20190926T202152Z
DTSTART:20191014T210000Z
DTEND:20191015T003000Z
CREATED:20190926T202152Z
LAST-MODIFIED:20191010T231858Z
LOCATION:Salle de délibérations
DESCRIPTION: Dans le cadre de sa programmation économique\, la Communauté d’Agglomération la Riviera du Levant a initié en 2017 une démarche de concertation en direction des opérateurs économiques avec "Les rendez-vous économiques de la RDL". Aujourd’hui\, ces travaux se poursuivent par la mise en place d’ateliers thématiques. Cette 1ère phase de concertation doit permettre d’impulser une dynamique de réflexion pour le développement et la structuration du monde agricole levantin. Dans le cadre de sa programmation économique\, la Communauté d’Agglomération la Riviera du Levant a initié en 2017 une démarche de concertation en direction des opérateurs économiques avec "Les rendez-vous économiques de la RDL". Aujourd’hui\, ces travaux se poursuivent par la mise en place d’ateliers thématiques. Cette 1ère phase de concertation doit permettre d’impulser une dynamique de réflexion pour le développement et la structuration du monde agricole levantin. Dans le cadre de sa programmation économique\, la Communauté d’Agglomération la Riviera du Levant a initié en 2017 une démarche de concertation en direction des opérateurs économiques avec "Les rendez-vous économiques de la RDL". Aujourd’hui\, ces travaux se poursuivent par la mise en place d’ateliers thématiques. Cette 1ère phase de concertation doit permettre d’impulser une dynamique de réflexion pour le développement et la structuration du monde agricole levantin. 
CATEGORIES:Les Rdv économiques de la CARL
URL:https://www.ville-sainteanne.fr/vivre-a-sainte-anne/vie-economique/les-rdv-eco/article/rendez-vous-economiques-de-la-riviera-du-levant?id_evenement=501

STATUS:CONFIRMED
END:VEVENT
END:VCALENDAR

