BEGIN:VCALENDAR
VERSION:2.0
X-WR-TIMEZONE:America/Guadeloupe
CALSCALE:GREGORIAN
PRODID:-//IPEOS/Calendar//NONSGML v1.0//FR
X-WR-CALNAME;VALUE=TEXT:Sainte-Anne - CULTURE DANS LA VILLE - Octobre 2019
X-WR-CALDESC: La ville de Sainte-Anne vous présente l’offre culturelle et artistique du mois d’octobre   Rendez-vous au Centre culturel de la ville et à la bibliothèque municipale Osange Talis Gane pour participer aux évènements. 
X-WR-RELCALID:vivre-a-sainte-anne/culture-dans-la-ville/programme-mensuel-des-animations-de-la-ville/article/culture-dans-la-ville-octobre-2019
BEGIN:VEVENT
SUMMARY:SEMAINE BLEUE - Exposition et Papot'âge
UID:evenement502 @ https://www.ville-sainteanne.fr
DTSTAMP:20190927T163316Z
DTSTART;VALUE=DATE:20191007
DTEND;VALUE=DATE:20191008
CREATED:20190927T163316Z
LAST-MODIFIED:20240917T222332Z
DESCRIPTION: 9h00 – 18h00 : Exposition / Rimèd a Gran Moun avec l'association Cadences et Traditions Lieu : Centre Culturel 18h : Papot’âge AN SOUP A PAWOL avec l'association L'ECHO de Lamarre Lieu : Local de l'association 9h00 – 18h00 : Exposition / Rimèd a Gran Moun avec l'association Cadences et Traditions Lieu : Centre Culturel 18h : Papot’âge AN SOUP A PAWOL avec l'association L'ECHO de Lamarre Lieu : Local de l'association 
CATEGORIES:CULTURE DANS LA VILLE - Octobre 2019
URL:https://www.ville-sainteanne.fr/vivre-a-sainte-anne/culture-dans-la-ville/programme-mensuel-des-animations-de-la-ville/article/culture-dans-la-ville-octobre-2019?id_evenement=502

STATUS:CONFIRMED
END:VEVENT
END:VCALENDAR

