BEGIN:VCALENDAR
VERSION:2.0
X-WR-TIMEZONE:America/Guadeloupe
CALSCALE:GREGORIAN
PRODID:-//IPEOS/Calendar//NONSGML v1.0//FR
X-WR-CALNAME;VALUE=TEXT:Sainte-Anne - CULTURE DANS LA VILLE - Octobre 2019
X-WR-CALDESC: La ville de Sainte-Anne vous présente l’offre culturelle et artistique du mois d’octobre   Rendez-vous au Centre culturel de la ville et à la bibliothèque municipale Osange Talis Gane pour participer aux évènements. 
X-WR-RELCALID:vivre-a-sainte-anne/culture-dans-la-ville/programme-mensuel-des-animations-de-la-ville/article/culture-dans-la-ville-octobre-2019
BEGIN:VEVENT
SUMMARY:SEMAINE BLEUE - Marche bleue
UID:evenement504 @ https://www.ville-sainteanne.fr
DTSTAMP:20191001T144942Z
DTSTART:20191012T110000Z
DTEND:20191012T130000Z
CREATED:20191001T144942Z
LAST-MODIFIED:20191001T184942Z
DESCRIPTION:Participation : 3€ sur place Départ : près du stade municipale de Valette Arrivée : plage du bourg
CATEGORIES:CULTURE DANS LA VILLE - Octobre 2019
URL:https://www.ville-sainteanne.fr/vivre-a-sainte-anne/culture-dans-la-ville/programme-mensuel-des-animations-de-la-ville/article/culture-dans-la-ville-octobre-2019?id_evenement=504

STATUS:CONFIRMED
END:VEVENT
END:VCALENDAR

