BEGIN:VCALENDAR
VERSION:2.0
X-WR-TIMEZONE:America/Guadeloupe
CALSCALE:GREGORIAN
PRODID:-//IPEOS/Calendar//NONSGML v1.0//FR
X-WR-CALNAME;VALUE=TEXT:Sainte-Anne - Les Rdv économiques de l’Adie
X-WR-CALDESC: L’Adie est une grande association française présente sur tout le territoire.  Elle défend l’idée que chacun\, même sans capital ou diplôme\, peut devenir entrepreneur s’il a accès au crédit et à un accompagnement professionnel\, personnalisé\, fondé sur la confiance\, la solidarité et la responsabilité.   L’ADIE Guadeloupe propose des rendez-vous économiques à l’attention des acteurs éco et/ou des porteurs de projets\, afin de les accompagner vers la réussite.   Pour aller plus loin :    Agence (…) 
X-WR-RELCALID:vivre-a-sainte-anne/vie-economique/les-rdv-eco/article/les-rdv-de-l-adie
BEGIN:VEVENT
SUMMARY:Les Rdv de l'Adie
UID:evenement505 @ https://www.ville-sainteanne.fr
DTSTAMP:20191003T185226Z
DTSTART:20191009T130000Z
DTEND:20191009T160000Z
CREATED:20191003T185226Z
LAST-MODIFIED:20191003T225305Z
LOCATION:Espace économique de Valette (bâtiment de la Direction de l'urbanisme).
DESCRIPTION:Dans le cadre des "Permanences économiques" déployées sur le territoire par la Communauté d'Agglomération la Riviera du Levant\, l'ADIE\, en partenariat avec la CARL\, organise une rencontre sur la thématique "Comment créer et financer son entreprise". Public : entrepreneurs et porteurs de projets Infoline : 0 969 328 110 Dans le cadre des "Permanences économiques" déployées sur le territoire par la Communauté d'Agglomération la Riviera du Levant\, l'ADIE\, en partenariat avec la CARL\, organise une rencontre sur la thématique "Comment créer et financer son entreprise". Public : entrepreneurs et porteurs de projets Infoline : 0 969 328 110 
CATEGORIES:Les Rdv économiques de l'Adie
URL:https://www.ville-sainteanne.fr/vivre-a-sainte-anne/vie-economique/les-rdv-eco/article/les-rdv-de-l-adie?id_evenement=505

STATUS:CONFIRMED
END:VEVENT
END:VCALENDAR

