BEGIN:VCALENDAR
VERSION:2.0
X-WR-TIMEZONE:America/Guadeloupe
CALSCALE:GREGORIAN
PRODID:-//IPEOS/Calendar//NONSGML v1.0//FR
X-WR-CALNAME;VALUE=TEXT:Sainte-Anne - RDV ASSO - RENCONTRE AVEC NOS AINES
X-WR-CALDESC:organisée par l’association Fiat-Lux
X-WR-RELCALID:citoyennete/associations-et-quartiers/vie-associative-117/infos-d-assos/article/rdv-asso-rencontre-avec-nos-aines
BEGIN:VEVENT
SUMMARY:RDV ASSO - RENCONTRE AVEC NOS AINES
UID:evenement506 @ https://www.ville-sainteanne.fr
DTSTAMP:20191010T204219Z
DTSTART:20191012T130000Z
DTEND:20191012T160000Z
CREATED:20191010T204219Z
LAST-MODIFIED:20191011T004314Z
LOCATION:Foyer R. Bordelais
DESCRIPTION:Dans le cadre de la Semaine bleue\, l’association Fiat-Lux vous convie à une rencontre avec nos ainés. Dans le cadre de la Semaine bleue\, l’association Fiat-Lux vous convie à une rencontre avec nos ainés. 
CATEGORIES:RDV ASSO - RENCONTRE AVEC NOS AINES
URL:https://www.ville-sainteanne.fr/citoyennete/associations-et-quartiers/vie-associative-117/infos-d-assos/article/rdv-asso-rencontre-avec-nos-aines?id_evenement=506

STATUS:CONFIRMED
END:VEVENT
END:VCALENDAR

