BEGIN:VCALENDAR
VERSION:2.0
X-WR-TIMEZONE:America/Guadeloupe
CALSCALE:GREGORIAN
PRODID:-//IPEOS/Calendar//NONSGML v1.0//FR
X-WR-CALNAME;VALUE=TEXT:Sainte-Anne - COMMENT VIVRE ET HABITER LE LITTORAL ?
X-WR-CALDESC: L’Agence des 50 Pas Géométriques de Guadeloupe organise une réunion publique le mardi 15 octobre de 9h à 14h en salle de délibérations de l’Hôtel de ville.  L’agence et ses équipes se proposent de répondre aux interrogations des habitants et professionnels et de les accompagner dans leurs démarches.   Informations au 0590 47 15 74 
X-WR-RELCALID:actualites/article/comment-vivre-et-habiter-le-littoral
BEGIN:VEVENT
SUMMARY:COMMENT VIVRE ET HABITER LE LITTORAL ?
UID:evenement507 @ https://www.ville-sainteanne.fr
DTSTAMP:20191014T140706Z
DTSTART:20191015T130000Z
DTEND:20191015T180000Z
CREATED:20191014T140706Z
LAST-MODIFIED:20191014T180727Z
LOCATION:Salle de délibérations de l'Hôtel de Ville
DESCRIPTION:Réunion publique organisée par l'Agence des 50 pas géométriques de Guadeloupe. Thème : Comment vivre et habiter le littoral ? Conseils et accompagnement des habitants et professionnels Réunion publique organisée par l'Agence des 50 pas géométriques de Guadeloupe. Thème : Comment vivre et habiter le littoral ? Conseils et accompagnement des habitants et professionnels 
CATEGORIES:COMMENT VIVRE ET HABITER LE LITTORAL ?
URL:https://www.ville-sainteanne.fr/actualites/article/comment-vivre-et-habiter-le-littoral?id_evenement=507

STATUS:CONFIRMED
END:VEVENT
END:VCALENDAR

