BEGIN:VCALENDAR
VERSION:2.0
X-WR-TIMEZONE:America/Guadeloupe
CALSCALE:GREGORIAN
PRODID:-//IPEOS/Calendar//NONSGML v1.0//FR
X-WR-CALNAME;VALUE=TEXT:Sainte-Anne - Inscription à la formation CQP ALS (Certificat de Qualification Professionnelle Animation de Loisir Sportif)
X-WR-CALDESC:La Ville de Sainte-Anne soutient l’insertion professionnelle et accompagne les associations dans la professionnalisation de leurs intervenants
X-WR-RELCALID:actualites/article/inscription-a-la-formation-cqp-als-certificat-de-qualification-professionnelle
BEGIN:VEVENT
SUMMARY:Inscription à la formation CQP ALS (Certificat de Qualification Professionnelle Animation de Loisir Sportif)
UID:evenement509 @ https://www.ville-sainteanne.fr
DTSTAMP:20191031T155058Z
DTSTART;VALUE=DATE:20191112
DTEND;VALUE=DATE:20191116
CREATED:20191031T155058Z
LAST-MODIFIED:20240917T222332Z
LOCATION:Sainte-Anne
DESCRIPTION:Dans le cadre des actions d’insertion\, la ville de Sainte-Anne organise en partenariat avec le Pôle emploi et l’UFOLEP des îles de Guadeloupe\, une session de formation CQP ALS (Certificat de Qualification Professionnelle Animation de Loisir Sportif) qui démarre le vendredi 15 novembre 2019. Il s’agit d’une formation qualifiante et de courte durée mise en place à l’initiative de la ville avec un double objectif. A court terme\, soutenir l’insertion professionnelle et sociale de jeunes sans diplômes. Et à moyen terme\, permettre aux associations de disposer de ressources qualifiées pour développer des activités économiques et sociales autour du sport et des loisirs\, sur l’ensemble du territoire. Les personnes intéressées sont invitées à se rapprocher rapidement de la direction de la vie des quartiers car le nombre de place est limité à 12 personnes. Inscriptions avant le mardi 12 novembre 2019 à : Direction de la Vie des Quartiers de la ville de Sainte-Anne Te l : 0590 23 98 80
CATEGORIES:Inscription à la formation CQP ALS (Certificat de Qualification Professionnelle Animation de Loisir Sportif)
URL:https://www.ville-sainteanne.fr/actualites/article/inscription-a-la-formation-cqp-als-certificat-de-qualification-professionnelle?id_evenement=509

STATUS:CONFIRMED
END:VEVENT
END:VCALENDAR

