BEGIN:VCALENDAR
VERSION:2.0
X-WR-TIMEZONE:America/Guadeloupe
CALSCALE:GREGORIAN
PRODID:-//IPEOS/Calendar//NONSGML v1.0//FR
X-WR-CALNAME;VALUE=TEXT:Sainte-Anne - CULTURE DANS LA VILLE - Novembre 2019
X-WR-CALDESC: La ville de Sainte-Anne vous présente son offre culturelle et artistique pour le mois de novembre 2019.    Rendez-vous au Centre culturel de la ville et à la bibliothèque municipale Osange Talis Gane pour participer aux évènements. 
X-WR-RELCALID:vivre-a-sainte-anne/culture-dans-la-ville/programme-mensuel-des-animations-de-la-ville/article/culture-dans-la-ville-novembre-2019
BEGIN:VEVENT
SUMMARY:Heure du conte - « Dans mon panier il y a ….. »
UID:evenement514 @ https://www.ville-sainteanne.fr
DTSTAMP:20191104T201626Z
DTSTART:20191115T183000Z
DTEND:20191115T203000Z
CREATED:20191104T201626Z
LAST-MODIFIED:20191106T001103Z
LOCATION:Bibliothèque O. Talis Gane
DESCRIPTION:Mystère et découverte d’un album à partir d’un objet représentatif de l’histoire. Public : 3 à 6 ans Entrée libre et gratuite - Inscription conseillée Infoline : 0590 68 63 80 Mystère et découverte d’un album à partir d’un objet représentatif de l’histoire. Public : 3 à 6 ans Entrée libre et gratuite - Inscription conseillée Infoline : 0590 68 63 80 
CATEGORIES:CULTURE DANS LA VILLE - Novembre 2019
URL:https://www.ville-sainteanne.fr/vivre-a-sainte-anne/culture-dans-la-ville/programme-mensuel-des-animations-de-la-ville/article/culture-dans-la-ville-novembre-2019?id_evenement=514

STATUS:CONFIRMED
END:VEVENT
END:VCALENDAR

