BEGIN:VCALENDAR
VERSION:2.0
X-WR-TIMEZONE:America/Guadeloupe
CALSCALE:GREGORIAN
PRODID:-//IPEOS/Calendar//NONSGML v1.0//FR
X-WR-CALNAME;VALUE=TEXT:Sainte-Anne - CULTURE DANS LA VILLE - Novembre 2019
X-WR-CALDESC: La ville de Sainte-Anne vous présente son offre culturelle et artistique pour le mois de novembre 2019.    Rendez-vous au Centre culturel de la ville et à la bibliothèque municipale Osange Talis Gane pour participer aux évènements. 
X-WR-RELCALID:vivre-a-sainte-anne/culture-dans-la-ville/programme-mensuel-des-animations-de-la-ville/article/culture-dans-la-ville-novembre-2019
BEGIN:VEVENT
SUMMARY:Club de lecture « Lire entre nous »
UID:evenement517 @ https://www.ville-sainteanne.fr
DTSTAMP:20191104T204548Z
DTSTART:20191130T133000Z
DTEND:20191130T153000Z
CREATED:20191104T204548Z
LAST-MODIFIED:20191106T001103Z
LOCATION:Bibliothèque O. Talis Gane
DESCRIPTION:En toute convivialité\, venez partager vos lectures et échanger vos impressions\, vos critiques littéraires avec les autres participants. Joli moment de partage avec l’association LIRE IMAGINER VIVRE Entrée libre et gratuite – public : Adulte Infoline : 0590 68 63 80 En toute convivialité\, venez partager vos lectures et échanger vos impressions\, vos critiques littéraires avec les autres participants. Joli moment de partage avec l’association LIRE IMAGINER VIVRE Entrée libre et gratuite – public : Adulte Infoline : 0590 68 63 80 
CATEGORIES:CULTURE DANS LA VILLE - Novembre 2019
URL:https://www.ville-sainteanne.fr/vivre-a-sainte-anne/culture-dans-la-ville/programme-mensuel-des-animations-de-la-ville/article/culture-dans-la-ville-novembre-2019?id_evenement=517

STATUS:CONFIRMED
END:VEVENT
END:VCALENDAR

