BEGIN:VCALENDAR
VERSION:2.0
X-WR-TIMEZONE:America/Guadeloupe
CALSCALE:GREGORIAN
PRODID:-//IPEOS/Calendar//NONSGML v1.0//FR
X-WR-CALNAME;VALUE=TEXT:Sainte-Anne - CULTURE DANS LA VILLE - Novembre 2019
X-WR-CALDESC: La ville de Sainte-Anne vous présente son offre culturelle et artistique pour le mois de novembre 2019.    Rendez-vous au Centre culturel de la ville et à la bibliothèque municipale Osange Talis Gane pour participer aux évènements. 
X-WR-RELCALID:vivre-a-sainte-anne/culture-dans-la-ville/programme-mensuel-des-animations-de-la-ville/article/culture-dans-la-ville-novembre-2019
BEGIN:VEVENT
SUMMARY:LES RDV DU MONDE DIPLOMATIQE
UID:evenement522 @ https://www.ville-sainteanne.fr
DTSTAMP:20191106T160400Z
DTSTART:20191129T230000Z
DTEND:20191130T010000Z
CREATED:20191106T160400Z
LAST-MODIFIED:20191106T200400Z
LOCATION:Centre de ressources
DESCRIPTION:Les Amis du Monde Diplomatique Guadeloupe vous invitent à la projection du film documentaire "Requiem pour le rêve américain"\, pour comprendre les rouages du pouvoir et ceux qui l'exercent. La projection sera suivie d'une discussion avec un intervenant local. Entrée libre et gratuite (dans la limite des 50 places disponibles). Les Amis du Monde Diplomatique Guadeloupe vous invitent à la projection du film documentaire "Requiem pour le rêve américain"\, pour comprendre les rouages du pouvoir et ceux qui l'exercent. La projection sera suivie d'une discussion avec un intervenant local. Entrée libre et gratuite (dans la limite des 50 places disponibles). 
CATEGORIES:CULTURE DANS LA VILLE - Novembre 2019
URL:https://www.ville-sainteanne.fr/vivre-a-sainte-anne/culture-dans-la-ville/programme-mensuel-des-animations-de-la-ville/article/culture-dans-la-ville-novembre-2019?id_evenement=522

STATUS:CONFIRMED
END:VEVENT
END:VCALENDAR

