BEGIN:VCALENDAR
VERSION:2.0
X-WR-TIMEZONE:America/Guadeloupe
CALSCALE:GREGORIAN
PRODID:-//IPEOS/Calendar//NONSGML v1.0//FR
X-WR-CALNAME;VALUE=TEXT:Sainte-Anne - CULTURE DANS LA VILLE - Novembre 2019
X-WR-CALDESC: La ville de Sainte-Anne vous présente son offre culturelle et artistique pour le mois de novembre 2019.    Rendez-vous au Centre culturel de la ville et à la bibliothèque municipale Osange Talis Gane pour participer aux évènements. 
X-WR-RELCALID:vivre-a-sainte-anne/culture-dans-la-ville/programme-mensuel-des-animations-de-la-ville/article/culture-dans-la-ville-novembre-2019
BEGIN:VEVENT
SUMMARY:Chanté Nwèl de Cactus Cho
UID:evenement523 @ https://www.ville-sainteanne.fr
DTSTAMP:20191106T161051Z
DTSTART:20191130T000000Z
DTEND:20191201T030000Z
CREATED:20191106T161051Z
LAST-MODIFIED:20191129T195151Z
LOCATION:Terrain Laurent (à coté de l'église)
DESCRIPTION:L'association Cactus vous invite au 1er Chanté Nwèl de sa tournée 2019\, avec le groupe Cactus Cho\, avec le groupe Restan La
CATEGORIES:CULTURE DANS LA VILLE - Novembre 2019
URL:https://www.ville-sainteanne.fr/vivre-a-sainte-anne/culture-dans-la-ville/programme-mensuel-des-animations-de-la-ville/article/culture-dans-la-ville-novembre-2019?id_evenement=523

STATUS:CONFIRMED
END:VEVENT
END:VCALENDAR

