BEGIN:VCALENDAR
VERSION:2.0
X-WR-TIMEZONE:America/Guadeloupe
CALSCALE:GREGORIAN
PRODID:-//IPEOS/Calendar//NONSGML v1.0//FR
X-WR-CALNAME;VALUE=TEXT:Sainte-Anne - Exposition Grands Horizons
X-WR-CALDESC:La ville de Sainte-Anne accueille du 4 au 29 novembre 2019\, l’exposition "Grands Horizons" et vous invite au vernissage\, le samedi 2 novembre 2019\, à 19h00\, au centre culturel.
X-WR-RELCALID:vivre-a-sainte-anne/culture-dans-la-ville/centre-culturel/article/exposition-grands-horizons
BEGIN:VEVENT
SUMMARY:Happening - « Morceaux d’horizons »
UID:evenement527 @ https://www.ville-sainteanne.fr
DTSTAMP:20191113T134252Z
DTSTART:20191116T200000Z
DTEND:20191116T220000Z
CREATED:20191113T134252Z
LAST-MODIFIED:20191113T174252Z
LOCATION:Centre Culturel
DESCRIPTION:Réalisation d’un happening collectif par les artistes de l’exposition. Réalisation d’un happening collectif par les artistes de l’exposition. 
CATEGORIES:Exposition Grands Horizons
URL:https://www.ville-sainteanne.fr/vivre-a-sainte-anne/culture-dans-la-ville/centre-culturel/article/exposition-grands-horizons?id_evenement=527

STATUS:CONFIRMED
END:VEVENT
END:VCALENDAR

