BEGIN:VCALENDAR
VERSION:2.0
X-WR-TIMEZONE:America/Guadeloupe
CALSCALE:GREGORIAN
PRODID:-//IPEOS/Calendar//NONSGML v1.0//FR
X-WR-CALNAME;VALUE=TEXT:Sainte-Anne - DON DU SANG
X-WR-CALDESC: Mobilisons-nous ! Sauvons des vies !    Retrouvez ici le planning des collectes de l’’Etablissement Français du Sang.   ASTUCE : Pour savoir si vous pouvez donner votre sang\, l’EFS vous propose de tester votre éligibilité en ligne 
X-WR-RELCALID:actualites/article/don-du-sang
BEGIN:VEVENT
SUMMARY:DON DU SANG
UID:evenement528 @ https://www.ville-sainteanne.fr
DTSTAMP:20191119T140352Z
DTSTART:20191123T120000Z
DTEND:20191123T163000Z
CREATED:20191119T140352Z
LAST-MODIFIED:20191119T180406Z
LOCATION:Parvis du Centre culturel
DESCRIPTION:L'EFS vous invite à donner votre sang pour sauver des vies L'EFS vous invite à donner votre sang pour sauver des vies 
CATEGORIES:DON DU SANG
URL:https://www.ville-sainteanne.fr/actualites/article/don-du-sang?id_evenement=528

STATUS:CONFIRMED
END:VEVENT
END:VCALENDAR

