BEGIN:VCALENDAR
VERSION:2.0
X-WR-TIMEZONE:America/Guadeloupe
CALSCALE:GREGORIAN
PRODID:-//IPEOS/Calendar//NONSGML v1.0//FR
X-WR-CALNAME;VALUE=TEXT:Sainte-Anne - Matinée-rencontre avec les administrés
X-WR-CALDESC: Organisée dans le cadre d’un partenariat CGSS/CCAS\, cette manifestation a pour but de rencontrer et répondre aux interrogations des assurés sociaux.    Les agents du CCAS (Centre Communal d’Action Sociale) et de la CGSS (Caisse Générale de Sécurité Sociale) vous accueilleront le Vendredi 22 Novembre 2019 de 9h à 13h au CCAS de la Ville de Sainte-Anne\, situé à la Rue Alex Couriol 97180 Sainte-Anne (derrière la mairie)   Les thématiques sont les suivantes :  Mise à jour des droits PUMA (…) 
X-WR-RELCALID:citoyennete/solidarite/le-ccas/article/matinee-rencontre-avec-les-administres
BEGIN:VEVENT
SUMMARY:Matinée-rencontre avec les administrés
UID:evenement529 @ https://www.ville-sainteanne.fr
DTSTAMP:20191119T143557Z
DTSTART:20191122T130000Z
DTEND:20191122T170000Z
CREATED:20191119T143557Z
LAST-MODIFIED:20191119T183750Z
LOCATION:Rue Alex Couriol (derrière l'Hôtel de ville)
DESCRIPTION:Venez vous informer sur les points suivants avec les agents du CCAS de Sainte-Anne et de la CGSS de la Guadeloupe : Mise à jour des droits PUMA (Protection Universelle Maladie) Droits CMU Ouverture du compte AMELI Ouverture d'un Dossier Médical Partagé (DMP) Venez vous informer sur les points suivants avec les agents du CCAS de Sainte-Anne et de la CGSS de la Guadeloupe : Mise à jour des droits PUMA (Protection Universelle Maladie) Droits CMU Ouverture du compte AMELI Ouverture d'un Dossier Médical Partagé (DMP) 
CATEGORIES:Matinée-rencontre avec les administrés
URL:https://www.ville-sainteanne.fr/citoyennete/solidarite/le-ccas/article/matinee-rencontre-avec-les-administres?id_evenement=529

STATUS:CONFIRMED
END:VEVENT
END:VCALENDAR

