BEGIN:VCALENDAR
VERSION:2.0
X-WR-TIMEZONE:America/Guadeloupe
CALSCALE:GREGORIAN
PRODID:-//IPEOS/Calendar//NONSGML v1.0//FR
X-WR-CALNAME;VALUE=TEXT:Sainte-Anne - CULTURE DANS LA VILLE - Novembre 2019
X-WR-CALDESC: La ville de Sainte-Anne vous présente son offre culturelle et artistique pour le mois de novembre 2019.    Rendez-vous au Centre culturel de la ville et à la bibliothèque municipale Osange Talis Gane pour participer aux évènements. 
X-WR-RELCALID:vivre-a-sainte-anne/culture-dans-la-ville/programme-mensuel-des-animations-de-la-ville/article/culture-dans-la-ville-novembre-2019
BEGIN:VEVENT
SUMMARY:Marché de noël de l'Intrépide Handball Club
UID:evenement530 @ https://www.ville-sainteanne.fr
DTSTAMP:20191125T124616Z
DTSTART:20191130T123000Z
DTEND:20191130T193000Z
CREATED:20191125T124616Z
LAST-MODIFIED:20191125T164616Z
LOCATION:Place Marius Chipotel
DESCRIPTION: 
CATEGORIES:CULTURE DANS LA VILLE - Novembre 2019
URL:https://www.ville-sainteanne.fr/vivre-a-sainte-anne/culture-dans-la-ville/programme-mensuel-des-animations-de-la-ville/article/culture-dans-la-ville-novembre-2019?id_evenement=530

STATUS:CONFIRMED
END:VEVENT
END:VCALENDAR

