BEGIN:VCALENDAR
VERSION:2.0
X-WR-TIMEZONE:America/Guadeloupe
CALSCALE:GREGORIAN
PRODID:-//IPEOS/Calendar//NONSGML v1.0//FR
X-WR-CALNAME;VALUE=TEXT:Sainte-Anne - CULTURE DANS LA VILLE - Décembre 2019
X-WR-CALDESC: La ville de Sainte-Anne vous présente son offre culturelle et artistique pour le mois de décembre 2019.    Rendez-vous au Centre culturel de la ville et à la bibliothèque municipale Osange Talis Gane pour participer aux évènements.   Consultez le programme en ligne ici ou en téléchargement ci-dessous. 
X-WR-RELCALID:vivre-a-sainte-anne/culture-dans-la-ville/programme-mensuel-des-animations-de-la-ville/article/culture-dans-la-ville-decembre-2019
BEGIN:VEVENT
SUMMARY:Repas partagé
UID:evenement547 @ https://www.ville-sainteanne.fr
DTSTAMP:20191202T155456Z
DTSTART:20191221T160000Z
DTEND:20191221T200000Z
CREATED:20191202T155456Z
LAST-MODIFIED:20191202T195456Z
DESCRIPTION:Le CLUB ACTION POUR LA DEFENSE DU 3ème AGE en partenariat avec la Fédération des Clubs des personnes de la Guadeloupe se donne rendez-vous pour un repas partagé autour de chants traditionnels de Noël. Infoline : 0690 61 22 82
CATEGORIES:CULTURE DANS LA VILLE - Décembre 2019
URL:https://www.ville-sainteanne.fr/vivre-a-sainte-anne/culture-dans-la-ville/programme-mensuel-des-animations-de-la-ville/article/culture-dans-la-ville-decembre-2019?id_evenement=547

STATUS:CONFIRMED
END:VEVENT
END:VCALENDAR

