BEGIN:VCALENDAR
VERSION:2.0
X-WR-TIMEZONE:America/Guadeloupe
CALSCALE:GREGORIAN
PRODID:-//IPEOS/Calendar//NONSGML v1.0//FR
X-WR-CALNAME;VALUE=TEXT:Sainte-Anne - DECES D’ALAIN CAPRICE\, ARTISTE-PEINTRE RÉSIDENT DE SAINTE-ANNE
X-WR-CALDESC: J’ai appris avec tristesse le décès de mon cher ami Alain Caprice\, artiste-peintre engagé qui m’a toujours soutenu dans mon engagement en politique. Résident à Sainte-Anne\, il aura tout au long de sa carrière d’inspecteur de police et d’artiste-peintre œuvrer pour son pays.   A Boissard notamment\, cet ancien fonctionnaire de police surnommé « Fly »  prenait le temps d’échanger et de partager son univers artistique avec les jeunes du quartier. Une façon de leur faire découvrir d’autres formes (…) 
X-WR-RELCALID:actualites/article/deces-d-alain-caprice-artiste-peintre-resident-de-sainte-anne
BEGIN:VEVENT
SUMMARY:Hommage à Alain Caprice\, Artiste-peintre engagé du territoire
UID:evenement551 @ https://www.ville-sainteanne.fr
DTSTAMP:20191230T144421Z
DTSTART:20191230T223000Z
DTEND:20191231T033000Z
CREATED:20191230T144421Z
LAST-MODIFIED:20191230T184546Z
LOCATION:Centre Culturel
DESCRIPTION:La Ville de Sainte-Anne rend hommage à Alain Phoébé Caprice décédé la semaine dernière\, à l’âge de 75 ans. Une soirée d’adieu et de partage est organisée ce lundi 30 décembre 2019\, au centre culturel de la ville\, de 18h30 à 23h30. Occasion pour le monde artistique\, sa famille\, ses amis et ses collègues et tous ceux qui l’ont connu\, de se réunir en sa mémoire et de lui rendre un dernier hommage. La Ville de Sainte-Anne rend hommage à Alain Phoébé Caprice décédé la semaine dernière\, à l’âge de 75 ans. Une soirée d’adieu et de partage est organisée ce lundi 30 décembre 2019\, au centre culturel de la ville\, de 18h30 à 23h30. Occasion pour le monde artistique\, sa famille\, ses amis et ses collègues et tous ceux qui l’ont connu\, de se réunir en sa mémoire et de lui rendre un dernier hommage. Ce que nous devons retenir de lui… Artiste-peintre engagé du territoire\, il aura tout au long de sa carrière d’inspecteur de police et d’artiste-peintre œuvré pour son pays. A Pointe-A-Pitre et à Sainte-Anne notamment\, cet ancien fonctionnaire de police surnommé « Fly » prenait le temps d’échanger et de partager son univers artistique avec les jeunes des quartiers. Une façon de leur faire découvrir d’autres formes d’expression à travers la photographie\, la peinture et la poésie. Né en 1944 à Fort-de-France d’une mère originaire de Sainte-Marie et d’un père originaire du Carbet\, Alain Phoébé Caprice\, aura réalisé un nombre incalculable d’oeuvres picturales et des dizaines d’expositions en Martinique\, en Guadeloupe\, en France et aux États-Unis\, dont une des dernières\, date de 2017\, au Centre Culturel Rémi Nainsouta à Pointe-à-Pitre. Ce que nous devons retenir de lui… Artiste-peintre engagé du territoire\, il aura tout au long de sa carrière d’inspecteur de police et d’artiste-peintre œuvré pour son pays. A Pointe-A-Pitre et à Sainte-Anne notamment\, cet ancien fonctionnaire de police surnommé « Fly » prenait le temps d’échanger et de partager son univers artistique avec les jeunes des quartiers. Une façon de leur faire découvrir d’autres formes d’expression à travers la photographie\, la peinture et la poésie. Né en 1944 à Fort-de-France d’une mère originaire de Sainte-Marie et d’un père originaire du Carbet\, Alain Phoébé Caprice\, aura réalisé un nombre incalculable d’oeuvres picturales et des dizaines d’expositions en Martinique\, en Guadeloupe\, en France et aux États-Unis\, dont une des dernières\, date de 2017\, au Centre Culturel Rémi Nainsouta à Pointe-à-Pitre.
CATEGORIES:DECES D'ALAIN CAPRICE\, ARTISTE-PEINTRE RÉSIDENT DE SAINTE-ANNE
URL:https://www.ville-sainteanne.fr/actualites/article/deces-d-alain-caprice-artiste-peintre-resident-de-sainte-anne?id_evenement=551

STATUS:CONFIRMED
END:VEVENT
END:VCALENDAR

