BEGIN:VCALENDAR
VERSION:2.0
X-WR-TIMEZONE:America/Guadeloupe
CALSCALE:GREGORIAN
PRODID:-//IPEOS/Calendar//NONSGML v1.0//FR
X-WR-CALNAME;VALUE=TEXT:Sainte-Anne - Atelier de prise en main des smartphones
X-WR-CALDESC: Pour communiquer avec vos enfants et petits-enfants sur les réseaux sociaux  Pour surfer sur le net\, acheter en ligne ou jouer en réseau (scrabble\, puzzle\,...)  Pour utiliser au maximum le potentiel de votre smartphoneRetour ligne automatique  Cet atelier est fait pour vous !    Une fois par mois\, la bibliothèque multimédia Osange Talis Gane vous propose cet atelier gratuit pour vous aider à vous familiariser avec cet outil désormais incontournable : le smartphone.   Inscription conseillée - (…) 
X-WR-RELCALID:vivre-a-sainte-anne/culture-dans-la-ville/programme-mensuel-des-animations-de-la-ville/article/atelier-de-prise-en-main-des-smartphones
BEGIN:VEVENT
SUMMARY:Atelier de prise en main des smartphones
UID:evenement565 @ https://www.ville-sainteanne.fr
DTSTAMP:20200120T204903Z
DTSTART:20200123T180000Z
DTEND:20200123T200000Z
CREATED:20200120T204903Z
LAST-MODIFIED:20200121T004922Z
LOCATION:Bibliothèque multimédia Osange Talis-Gane
DESCRIPTION:Pour communiquer avec vos enfants et petits-enfants sur les réseaux sociaux Pour surfer sur le net\, acheter en ligne ou jouer en réseau (scrabble\, puzzle\,...) Pour utiliser au maximum le potentiel de votre smartphone INSCRIVEZ-VOUS A CET ATELIER ! Atelier gratuit - Inscription conseillée Tout public Informations et inscriptions au 0590 68 63 80
CATEGORIES:Atelier de prise en main des smartphones
URL:https://www.ville-sainteanne.fr/vivre-a-sainte-anne/culture-dans-la-ville/programme-mensuel-des-animations-de-la-ville/article/atelier-de-prise-en-main-des-smartphones?id_evenement=565

STATUS:CONFIRMED
END:VEVENT
END:VCALENDAR

