BEGIN:VCALENDAR
VERSION:2.0
X-WR-TIMEZONE:America/Guadeloupe
CALSCALE:GREGORIAN
PRODID:-//IPEOS/Calendar//NONSGML v1.0//FR
X-WR-CALNAME;VALUE=TEXT:Sainte-Anne - Sport Dans la Ville
X-WR-CALDESC: Découvrez le programme mensuel des animations sportives de la Ville de Sainte-Anne.    A l’instar du CDV (Culture Dans la Ville) au sein duquel nous regroupons les animations culturelles de la ville\, le SDV (Sport Dans la Ville ) est le programme d’animations (déployées sur le territoire) regroupant les activités sportives proposées par la Ville de Sainte-Anne\, les associations et les ligues sportives. 
X-WR-RELCALID:vivre-a-sainte-anne/sports-et-loisirs-dans-la-ville/animation-sportive/article/sport-dans-la-ville
BEGIN:VEVENT
SUMMARY:Swé Ba tout Moun 2020
UID:evenement602 @ https://www.ville-sainteanne.fr
DTSTAMP:20200303T141539Z
DTSTART;VALUE=DATE:20200221
DTEND;VALUE=DATE:20200222
CREATED:20200303T141539Z
LAST-MODIFIED:20240917T222332Z
DESCRIPTION:Petits et grands sont invités à venir nombreux danser au rythme de la zumba\, de la salsa fit\, du soda fit et bien d'autres ! La ville souhaite ainsi encourager la pratique du fitness et de ses dérivés (zumba\, aqua zumba\, socafit\, salsafit\, ...) dans un cadre ludique Animation proposée par le service Animation sportive de la ville\, en partenariat avec l'association Gym En form' Petits et grands sont invités à venir nombreux danser au rythme de la zumba\, de la salsa fit\, du soda fit et bien d'autres ! La ville souhaite ainsi encourager la pratique du fitness et de ses dérivés (zumba\, aqua zumba\, socafit\, salsafit\, ...) dans un cadre ludique Animation proposée par le service Animation sportive de la ville\, en partenariat avec l'association Gym En form' 
CATEGORIES:Sport Dans la Ville
URL:https://www.ville-sainteanne.fr/vivre-a-sainte-anne/sports-et-loisirs-dans-la-ville/animation-sportive/article/sport-dans-la-ville?id_evenement=602

STATUS:CONFIRMED
END:VEVENT
END:VCALENDAR

