BEGIN:VCALENDAR
VERSION:2.0
X-WR-TIMEZONE:America/Guadeloupe
CALSCALE:GREGORIAN
PRODID:-//IPEOS/Calendar//NONSGML v1.0//FR
X-WR-CALNAME;VALUE=TEXT:Sainte-Anne - Sport Dans la Ville
X-WR-CALDESC: Découvrez le programme mensuel des animations sportives de la Ville de Sainte-Anne.    A l’instar du CDV (Culture Dans la Ville) au sein duquel nous regroupons les animations culturelles de la ville\, le SDV (Sport Dans la Ville ) est le programme d’animations (déployées sur le territoire) regroupant les activités sportives proposées par la Ville de Sainte-Anne\, les associations et les ligues sportives. 
X-WR-RELCALID:vivre-a-sainte-anne/sports-et-loisirs-dans-la-ville/animation-sportive/article/sport-dans-la-ville
BEGIN:VEVENT
SUMMARY:Les 10 km de la Juventus
UID:evenement610 @ https://www.ville-sainteanne.fr
DTSTAMP:20200303T142505Z
DTSTART;VALUE=DATE:20200307
DTEND;VALUE=DATE:20200308
CREATED:20200303T142505Z
LAST-MODIFIED:20240917T222332Z
LOCATION:Valette
DESCRIPTION:Course hors stade dans les rues du bourg (ouvert aux licenciés et non licenciés\, femmes et hommes. Départ à 9h pour les jeunes\, à 16h pour les adultes Organisé par la Juventus section athlétisme Course hors stade dans les rues du bourg (ouvert aux licenciés et non licenciés\, femmes et hommes. Départ à 9h pour les jeunes\, à 16h pour les adultes Organisé par la Juventus section athlétisme Course hors stade dans les rues du bourg (ouvert aux licenciés et non licenciés\, femmes et hommes. Départ à 9h pour les jeunes\, à 16h pour les adultes Organisé par la Juventus section athlétisme 
CATEGORIES:Sport Dans la Ville
URL:https://www.ville-sainteanne.fr/vivre-a-sainte-anne/sports-et-loisirs-dans-la-ville/animation-sportive/article/sport-dans-la-ville?id_evenement=610

STATUS:CONFIRMED
END:VEVENT
END:VCALENDAR

