BEGIN:VCALENDAR
VERSION:2.0
X-WR-TIMEZONE:America/Guadeloupe
CALSCALE:GREGORIAN
PRODID:-//IPEOS/Calendar//NONSGML v1.0//FR
X-WR-CALNAME;VALUE=TEXT:Sainte-Anne - Culture Dans la Ville
X-WR-CALDESC: Découvrez le programme mensuel des animations culturelles de la Ville de Sainte-Anne.    A l’instar du SDV (Sport Dans la Ville) au sein duquel nous regroupons les animations sportives de la ville\, le CDV (Culture Dans la Ville) est le programme d’animations (déployées sur le territoire) regroupant les activités culturelles proposées par la Ville de Sainte-Anne et les associations. 
X-WR-RELCALID:vivre-a-sainte-anne/culture-dans-la-ville/programme-mensuel-des-animations-de-la-ville/article/culture-dans-la-ville-885
BEGIN:VEVENT
SUMMARY:Présentation de la médiathèque numérique
UID:evenement616 @ https://www.ville-sainteanne.fr
DTSTAMP:20200304T124411Z
DTSTART:20200311T183000Z
DTEND:20200311T200000Z
CREATED:20200304T124411Z
LAST-MODIFIED:20200304T191407Z
LOCATION:Bibliothèque multimédia Osange Talis-Gane
DESCRIPTION:La Médiathèque Numérique de la Guadeloupe vous permet d’accéder gratuitement à une offre variée de contenus en ligne. A partir de tout ordinateur et tablette connectés à Internet\, vous pouvez consulter 24h/24h sans limitation les ressources notées en "Accès Libre". En accès limité\, vous pourrez avoir accès à 4 revues\, magazine\, films\, BD pour les ressources notées "Forfait" (remis à jour tous les mois). Venez nombreux découvrir ce formidable réservoir de savoirs ! Entrée libre et gratuite Inscription conseillée La Médiathèque Numérique de la Guadeloupe vous permet d’accéder gratuitement à une offre variée de contenus en ligne. A partir de tout ordinateur et tablette connectés à Internet\, vous pouvez consulter 24h/24h sans limitation les ressources notées en "Accès Libre". En accès limité\, vous pourrez avoir accès à 4 revues\, magazine\, films\, BD pour les ressources notées "Forfait" (remis à jour tous les mois). Venez nombreux découvrir ce formidable réservoir de savoirs ! Entrée libre et gratuite Inscription conseillée 
CATEGORIES:Culture Dans la Ville
URL:https://www.ville-sainteanne.fr/vivre-a-sainte-anne/culture-dans-la-ville/programme-mensuel-des-animations-de-la-ville/article/culture-dans-la-ville-885?id_evenement=616

STATUS:CONFIRMED
END:VEVENT
END:VCALENDAR

