BEGIN:VCALENDAR
VERSION:2.0
X-WR-TIMEZONE:America/Guadeloupe
CALSCALE:GREGORIAN
PRODID:-//IPEOS/Calendar//NONSGML v1.0//FR
X-WR-CALNAME;VALUE=TEXT:Sainte-Anne - Culture Dans la Ville
X-WR-CALDESC: Découvrez le programme mensuel des animations culturelles de la Ville de Sainte-Anne.    A l’instar du SDV (Sport Dans la Ville) au sein duquel nous regroupons les animations sportives de la ville\, le CDV (Culture Dans la Ville) est le programme d’animations (déployées sur le territoire) regroupant les activités culturelles proposées par la Ville de Sainte-Anne et les associations. 
X-WR-RELCALID:vivre-a-sainte-anne/culture-dans-la-ville/programme-mensuel-des-animations-de-la-ville/article/culture-dans-la-ville-885
BEGIN:VEVENT
SUMMARY:Décriptaj Vie citoyenne
UID:evenement623 @ https://www.ville-sainteanne.fr
DTSTAMP:20200304T135901Z
DTSTART:20200313T230000Z
DTEND:20200314T010000Z
CREATED:20200304T135901Z
LAST-MODIFIED:20200304T191407Z
DESCRIPTION:Deux conférences sur le thème de "Osons l'optimisme !"\, En présence de Philippe Joffe\, délégué de la Ligue des optimistes pour le département de L'Indre et conférencier en estime de soi : Le vendredi 13 mars à 19h à l'auditorium de Douville : conférence-débat sur l'optimisme Le mardi 24 mars à 19h à la bibliothèque O. Talis Gane : conférence sur "Le triangle de Karpman\, sortir du triangle dramatique" Tout public - Entrée libre et gratuite Infoline : 0590 68 63 80 ou 0590 21 49 29 En partenariat avec la Ligue des Optimistes de France Deux conférences sur le thème de "Osons l'optimisme !"\, En présence de Philippe Joffe\, délégué de la Ligue des optimistes pour le département de L'Indre et conférencier en estime de soi : Le vendredi 13 mars à 19h à l'auditorium de Douville : conférence-débat sur l'optimisme Le mardi 24 mars à 19h à la bibliothèque O. Talis Gane : conférence sur "Le triangle de Karpman\, sortir du triangle dramatique" Tout public - Entrée libre et gratuite Infoline : 0590 68 63 80 ou 0590 21 49 29 En partenariat avec la Ligue des Optimistes de France 
CATEGORIES:Culture Dans la Ville
URL:https://www.ville-sainteanne.fr/vivre-a-sainte-anne/culture-dans-la-ville/programme-mensuel-des-animations-de-la-ville/article/culture-dans-la-ville-885?id_evenement=623

STATUS:CONFIRMED
END:VEVENT
END:VCALENDAR

