BEGIN:VCALENDAR
VERSION:2.0
X-WR-TIMEZONE:America/Guadeloupe
CALSCALE:GREGORIAN
PRODID:-//IPEOS/Calendar//NONSGML v1.0//FR
X-WR-CALNAME;VALUE=TEXT:Sainte-Anne - Culture Dans la Ville
X-WR-CALDESC: Découvrez le programme mensuel des animations culturelles de la Ville de Sainte-Anne.    A l’instar du SDV (Sport Dans la Ville) au sein duquel nous regroupons les animations sportives de la ville\, le CDV (Culture Dans la Ville) est le programme d’animations (déployées sur le territoire) regroupant les activités culturelles proposées par la Ville de Sainte-Anne et les associations. 
X-WR-RELCALID:vivre-a-sainte-anne/culture-dans-la-ville/programme-mensuel-des-animations-de-la-ville/article/culture-dans-la-ville-885
BEGIN:VEVENT
SUMMARY:Concours d'éloquence "Lokans a fanm si fanm"
UID:evenement625 @ https://www.ville-sainteanne.fr
DTSTAMP:20200304T140340Z
DTSTART:20200307T193000Z
DTEND:20200307T223000Z
CREATED:20200304T140340Z
LAST-MODIFIED:20200304T191407Z
LOCATION:Centre culturel
DESCRIPTION:Concours d'éloquence organisé par l'association Lyan'n pannyé\, en partenariat avec le Club Soroptimist La fleche Nord Est Grande Terre​\, dans le cadre de la Journée de la femme. Infoline : 0590 85 19 20 Concours d'éloquence organisé par l'association Lyan'n pannyé\, en partenariat avec le Club Soroptimist La fleche Nord Est Grande Terre​\, dans le cadre de la Journée de la femme. Infoline : 0590 85 19 20 
CATEGORIES:Culture Dans la Ville
URL:https://www.ville-sainteanne.fr/vivre-a-sainte-anne/culture-dans-la-ville/programme-mensuel-des-animations-de-la-ville/article/culture-dans-la-ville-885?id_evenement=625

STATUS:CONFIRMED
END:VEVENT
END:VCALENDAR

