BEGIN:VCALENDAR
VERSION:2.0
X-WR-TIMEZONE:America/Guadeloupe
CALSCALE:GREGORIAN
PRODID:-//IPEOS/Calendar//NONSGML v1.0//FR
X-WR-CALNAME;VALUE=TEXT:Sainte-Anne - Culture Dans la Ville
X-WR-CALDESC: Découvrez le programme mensuel des animations culturelles de la Ville de Sainte-Anne.    A l’instar du SDV (Sport Dans la Ville) au sein duquel nous regroupons les animations sportives de la ville\, le CDV (Culture Dans la Ville) est le programme d’animations (déployées sur le territoire) regroupant les activités culturelles proposées par la Ville de Sainte-Anne et les associations. 
X-WR-RELCALID:vivre-a-sainte-anne/culture-dans-la-ville/programme-mensuel-des-animations-de-la-ville/article/culture-dans-la-ville-885
BEGIN:VEVENT
SUMMARY:Assemblée générale de l'association Cadences et Traditions
UID:evenement626 @ https://www.ville-sainteanne.fr
DTSTAMP:20200304T140530Z
DTSTART:20200314T130000Z
DTEND:20200314T180000Z
CREATED:20200304T140530Z
LAST-MODIFIED:20200304T191407Z
LOCATION:Centre Culturel
DESCRIPTION: 
CATEGORIES:Culture Dans la Ville
URL:https://www.ville-sainteanne.fr/vivre-a-sainte-anne/culture-dans-la-ville/programme-mensuel-des-animations-de-la-ville/article/culture-dans-la-ville-885?id_evenement=626

STATUS:CONFIRMED
END:VEVENT
END:VCALENDAR

