BEGIN:VCALENDAR
VERSION:2.0
X-WR-TIMEZONE:America/Guadeloupe
CALSCALE:GREGORIAN
PRODID:-//IPEOS/Calendar//NONSGML v1.0//FR
X-WR-CALNAME;VALUE=TEXT:Sainte-Anne - L’HEURE DU CONTE
X-WR-CALDESC: Pendant le déconfinement\, la Ville de Sainte-Anne Guadeloupe poursuit ses actions autour du livre. Chaque mercredi à 10h\, nous invitons les enfants à découvrir un conte lors d’une lecture illustrée sur la Page Facebook de la Ville.    EPISODE 13  Pour aborder ce mois de juillet\, le Pôle animation de la Ville vous présente "Lilly et les Ti-mas"\, avec l’aimable autorisation des Editions Jasor.   Lilly habite le joli village de Belzo. Chaque année\, pendant le carnaval\, les rues se parent de (…) 
X-WR-RELCALID:vivre-a-sainte-anne/culture-dans-la-ville/fetes-de-sections/article/l-heure-du-conte-pour-mieux-vivre-le-confinement-a-sainte-anne
BEGIN:VEVENT
SUMMARY:L'HEURE DU CONTE POUR MIEUX VIVRE LE CONFINEMENT A SAINTE-ANNE
UID:evenement630 @ https://www.ville-sainteanne.fr
DTSTAMP:20200406T205406Z
DTSTART:20200408T140000Z
DTEND:20200408T150000Z
CREATED:20200406T205406Z
LAST-MODIFIED:20200407T005529Z
LOCATION:Page Facebook de la ville de Sainte-Anne
DESCRIPTION:Le Pôle animation vous présente avec l'aimable autorisation des éditions Jasor\, "Zandoli Mandé Mayé" de Gilda Gonfier. ...Cette fois\, c’est la fille du soleil que Zandoli (ou Anoli) veut épouser\, il en est follement amoureux et si les animaux qu’il rencontre ne le comprennent pas\, c’est qu’ils ne connaissent rien à l’amour. Le hasard fera finalement très bien les choses. Illustration : Doumey Durieux - Editions : Jasor (2010) Public : enfants de 3 à 6 ans accompagnés d'un parent Livre lauréat de la 1ère édition du concours de création d’albums pour les petits\, lancé par le Conseil Départemental de La Guadeloupe en 2009 #ConfinésMaisPasIsolés Le Pôle animation vous présente avec l'aimable autorisation des éditions Jasor\, "Zandoli Mandé Mayé" de Gilda Gonfier. ...Cette fois\, c’est la fille du soleil que Zandoli (ou Anoli) veut épouser\, il en est follement amoureux et si les animaux qu’il rencontre ne le comprennent pas\, c’est qu’ils ne connaissent rien à l’amour. Le hasard fera finalement très bien les choses. Illustration : Doumey Durieux - Editions : Jasor (2010) Public : enfants de 3 à 6 ans accompagnés d'un parent Livre lauréat de la 1ère édition du concours de création d’albums pour les petits\, lancé par le Conseil Départemental de La Guadeloupe en 2009 #ConfinésMaisPasIsolés 
CATEGORIES:L'HEURE DU CONTE
URL:https://www.ville-sainteanne.fr/vivre-a-sainte-anne/culture-dans-la-ville/fetes-de-sections/article/l-heure-du-conte-pour-mieux-vivre-le-confinement-a-sainte-anne?id_evenement=630

STATUS:CONFIRMED
END:VEVENT
END:VCALENDAR

