BEGIN:VCALENDAR
VERSION:2.0
X-WR-TIMEZONE:America/Guadeloupe
CALSCALE:GREGORIAN
PRODID:-//IPEOS/Calendar//NONSGML v1.0//FR
X-WR-CALNAME;VALUE=TEXT:Sainte-Anne -  MIEUX VIVRE LE CONFINEMENT AVEC "JUST WHAT U NEED"
X-WR-CALDESC: Chaque samedi à 10h\, "Just What U Need" vous invite à son rdv Facebook  "MANGE\, PLANTE\, BICHONNE" !    Just What U Need" \, en partenariat avec l’Association Guadeloupe Patrimoine et la Ville de Sainte-Anne\, lance une nouvelle Webserie de 5 épisodes en période de confinement.   MANGE\, PLANTE\, BICHONNE.   3 choses ultra simples à faire à la maison avec un ingrédient.  Prendre soin de soi c’est bien manger. Prendre soin de soi c’est s’assurer de pouvoir s’alimenter durablement. Prendre soin de (…) 
X-WR-RELCALID:vivre-a-sainte-anne/culture-dans-la-ville/article/mieux-vivre-le-confinement-avec-just-what-u-need
BEGIN:VEVENT
SUMMARY:MANGE\, PLANTE\, BICHONNE
UID:evenement631 @ https://www.ville-sainteanne.fr
DTSTAMP:20200406T212830Z
DTSTART:20200411T140000Z
DTEND:20200411T150000Z
CREATED:20200406T212830Z
LAST-MODIFIED:20200407T013537Z
DESCRIPTION:EPISODE 1 : LA TOMATE EPISODE 1 : LA TOMATE Just What U Need by Groupe RYS\, en partenariat avec l'Association Guadeloupe Patrimoine et la Ville de Sainte-Anne Guadeloupe\, lance une nouvelle Webserie de 5 épisodes en période de confinement. MANGE\, PLANTE\, BICHONNE. 3 choses ultra simples à faire à la maison avec un ingrédient. Prendre soin de soi c'est bien manger. Prendre soin de soi c'est s'assurer de pouvoir s'alimenter durablement. Prendre soin de soi c'est aussi chouchouter son corps. Utilisons ce que nous avons sous la main. Rien ne se perd\, tout se transforme. Vérifiez par vous-même ! Just What U Need by Groupe RYS\, en partenariat avec l'Association Guadeloupe Patrimoine et la Ville de Sainte-Anne Guadeloupe\, lance une nouvelle Webserie de 5 épisodes en période de confinement. MANGE\, PLANTE\, BICHONNE. 3 choses ultra simples à faire à la maison avec un ingrédient. Prendre soin de soi c'est bien manger. Prendre soin de soi c'est s'assurer de pouvoir s'alimenter durablement. Prendre soin de soi c'est aussi chouchouter son corps. Utilisons ce que nous avons sous la main. Rien ne se perd\, tout se transforme. Vérifiez par vous-même !
CATEGORIES: MIEUX VIVRE LE CONFINEMENT AVEC "JUST WHAT U NEED"
URL:https://www.ville-sainteanne.fr/vivre-a-sainte-anne/culture-dans-la-ville/article/mieux-vivre-le-confinement-avec-just-what-u-need?id_evenement=631

STATUS:CONFIRMED
END:VEVENT
END:VCALENDAR

