BEGIN:VCALENDAR
VERSION:2.0
X-WR-TIMEZONE:America/Guadeloupe
CALSCALE:GREGORIAN
PRODID:-//IPEOS/Calendar//NONSGML v1.0//FR
X-WR-CALNAME;VALUE=TEXT:Sainte-Anne - Culture Dans la Ville
X-WR-CALDESC: Découvrez le programme mensuel des animations culturelles de la Ville de Sainte-Anne.    A l’instar du SDV (Sport Dans la Ville) au sein duquel nous regroupons les animations sportives de la ville\, le CDV (Culture Dans la Ville) est le programme d’animations (déployées sur le territoire) regroupant les activités culturelles proposées par la Ville de Sainte-Anne et les associations. 
X-WR-RELCALID:vivre-a-sainte-anne/culture-dans-la-ville/programme-mensuel-des-animations-de-la-ville/article/culture-dans-la-ville-885
BEGIN:VEVENT
SUMMARY:Dégoudi-Kò
UID:evenement638 @ https://www.ville-sainteanne.fr
DTSTAMP:20000101T040000Z
DTSTART:20200425T200000Z
DTEND:20200425T210000Z
CREATED:20000101T040000Z
LAST-MODIFIED:20200430T185712Z
LOCATION:Page Facebook de la Ville de Sainte-Anne
DESCRIPTION:MIEUX VIVRE LE CONFINEMENT Lakou Veranda et la Ville de Sainte-Anne Guadeloupe vous proposent le Dégoudi-Kò pour une initiation culturelle et sportive en ligne autour du ka ! A compter du 11 avril 2020\, rdv tous les samedis à 16h sur la page Facebook de la ville ! #ConfinésMaisPasIsolés #Sentann #VilleCulturelle #GwoKaFitness #GwoKa #confinement #covid19 https://bit.ly/3c4xiaI MIEUX VIVRE LE CONFINEMENT Lakou Veranda et la Ville de Sainte-Anne Guadeloupe vous proposent le Dégoudi-Kò pour une initiation culturelle et sportive en ligne autour du ka ! A compter du 11 avril 2020\, rdv tous les samedis à 16h sur la page Facebook de la ville ! #ConfinésMaisPasIsolés #Sentann #VilleCulturelle #GwoKaFitness #GwoKa #confinement #covid19 https://bit.ly/3c4xiaI 
CATEGORIES:Culture Dans la Ville
URL:https://www.ville-sainteanne.fr/vivre-a-sainte-anne/culture-dans-la-ville/programme-mensuel-des-animations-de-la-ville/article/culture-dans-la-ville-885?id_evenement=638

STATUS:CONFIRMED
END:VEVENT
END:VCALENDAR

