BEGIN:VCALENDAR
VERSION:2.0
X-WR-TIMEZONE:America/Guadeloupe
CALSCALE:GREGORIAN
PRODID:-//IPEOS/Calendar//NONSGML v1.0//FR
X-WR-CALNAME;VALUE=TEXT:Sainte-Anne - L’HEURE DU CONTE
X-WR-CALDESC: Pendant le déconfinement\, la Ville de Sainte-Anne Guadeloupe poursuit ses actions autour du livre. Chaque mercredi à 10h\, nous invitons les enfants à découvrir un conte lors d’une lecture illustrée sur la Page Facebook de la Ville.    EPISODE 13  Pour aborder ce mois de juillet\, le Pôle animation de la Ville vous présente "Lilly et les Ti-mas"\, avec l’aimable autorisation des Editions Jasor.   Lilly habite le joli village de Belzo. Chaque année\, pendant le carnaval\, les rues se parent de (…) 
X-WR-RELCALID:vivre-a-sainte-anne/culture-dans-la-ville/fetes-de-sections/article/l-heure-du-conte-pour-mieux-vivre-le-confinement-a-sainte-anne
BEGIN:VEVENT
SUMMARY:L'HEURE DU CONTE POUR MIEUX VIVRE LE CONFINEMENT A SAINTE-ANNE
UID:evenement639 @ https://www.ville-sainteanne.fr
DTSTAMP:20200414T150446Z
DTSTART:20200415T140000Z
DTEND:20200415T150000Z
CREATED:20200414T150446Z
LAST-MODIFIED:20200414T190446Z
LOCATION:Page Facebook de la ville de Sainte-Anne
DESCRIPTION:Présentation en direct sur Facebook de l'ouvrage " LE GALET BLEU " de Laure Cuirassier publié en 2014\, avec l'aimable autorisation des éditions Jasor. L’intrigue raconte la façon dont une petite fille\, accompagnée par sa mère\, va apprendre à dominer sa peur devant le chien menaçant des nouveaux voisins\, cela à l’aide d’un galet magique de couleur bleue. Illustration : Viva Cuirassier Public : enfants de 3 à 6 ans accompagnés d'un parent Livre lauréat de la 2ème édition du concours de création d’albums pour les petits "Livre jeunesse en Caraïbe"\, lancé par le Conseil Départemental de La Guadeloupe\, en 2009 Présentation en direct sur Facebook de l'ouvrage " LE GALET BLEU " de Laure Cuirassier publié en 2014\, avec l'aimable autorisation des éditions Jasor. L’intrigue raconte la façon dont une petite fille\, accompagnée par sa mère\, va apprendre à dominer sa peur devant le chien menaçant des nouveaux voisins\, cela à l’aide d’un galet magique de couleur bleue. Illustration : Viva Cuirassier Public : enfants de 3 à 6 ans accompagnés d'un parent Livre lauréat de la 2ème édition du concours de création d’albums pour les petits "Livre jeunesse en Caraïbe"\, lancé par le Conseil Départemental de La Guadeloupe\, en 2009 
CATEGORIES:L'HEURE DU CONTE
URL:https://www.ville-sainteanne.fr/vivre-a-sainte-anne/culture-dans-la-ville/fetes-de-sections/article/l-heure-du-conte-pour-mieux-vivre-le-confinement-a-sainte-anne?id_evenement=639

STATUS:CONFIRMED
END:VEVENT
END:VCALENDAR

