BEGIN:VCALENDAR
VERSION:2.0
X-WR-TIMEZONE:America/Guadeloupe
CALSCALE:GREGORIAN
PRODID:-//IPEOS/Calendar//NONSGML v1.0//FR
X-WR-CALNAME;VALUE=TEXT:Sainte-Anne - L’HEURE DU CONTE
X-WR-CALDESC: Pendant le déconfinement\, la Ville de Sainte-Anne Guadeloupe poursuit ses actions autour du livre. Chaque mercredi à 10h\, nous invitons les enfants à découvrir un conte lors d’une lecture illustrée sur la Page Facebook de la Ville.    EPISODE 13  Pour aborder ce mois de juillet\, le Pôle animation de la Ville vous présente "Lilly et les Ti-mas"\, avec l’aimable autorisation des Editions Jasor.   Lilly habite le joli village de Belzo. Chaque année\, pendant le carnaval\, les rues se parent de (…) 
X-WR-RELCALID:vivre-a-sainte-anne/culture-dans-la-ville/fetes-de-sections/article/l-heure-du-conte-pour-mieux-vivre-le-confinement-a-sainte-anne
BEGIN:VEVENT
SUMMARY:L'HEURE DU CONTE POUR MIEUX VIVRE LE CONFINEMENT A SAINTE-ANNE
UID:evenement640 @ https://www.ville-sainteanne.fr
DTSTAMP:20200421T153937Z
DTSTART:20200422T140000Z
DTEND:20200422T150000Z
CREATED:20200421T153937Z
LAST-MODIFIED:20200421T193937Z
LOCATION:Page Facebook de la Ville de Sainte-Anne
DESCRIPTION:C'est l'heure du conte avec la ville de Sainte-Anne et l'aimable autorisation de la maison d'Editions Caraïbéditions. Découvrez l'histoire de "La petite fille aux gros cheveux" Auteur : Marie-Chantal Francillette Illustration : Bruno Coiffard Editions Caraïbéditions Public : enfants de 3 à 6 ans accompagnés d'un parent Prochain RDV\, mercredi 29 avril à 10h sur la page Facebook de la Ville de Sainte-Anne Guadeloupe C'est l'heure du conte avec la ville de Sainte-Anne et l'aimable autorisation de la maison d'Editions Caraïbéditions. Découvrez l'histoire de "La petite fille aux gros cheveux" Auteur : Marie-Chantal Francillette Illustration : Bruno Coiffard Editions Caraïbéditions Public : enfants de 3 à 6 ans accompagnés d'un parent Prochain RDV\, mercredi 29 avril à 10h sur la page Facebook de la Ville de Sainte-Anne Guadeloupe C'est l'heure du conte avec la ville de Sainte-Anne et l'aimable autorisation de la maison d'Editions Caraïbéditions. Découvrez l'histoire de "La petite fille aux gros cheveux" Auteur : Marie-Chantal Francillette Illustration : Bruno Coiffard Editions Caraïbéditions Public : enfants de 3 à 6 ans accompagnés d'un parent Prochain RDV\, mercredi 29 avril à 10h sur la page Facebook de la Ville de Sainte-Anne Guadeloupe 
CATEGORIES:L'HEURE DU CONTE
URL:https://www.ville-sainteanne.fr/vivre-a-sainte-anne/culture-dans-la-ville/fetes-de-sections/article/l-heure-du-conte-pour-mieux-vivre-le-confinement-a-sainte-anne?id_evenement=640

STATUS:CONFIRMED
END:VEVENT
END:VCALENDAR

