BEGIN:VCALENDAR
VERSION:2.0
X-WR-TIMEZONE:America/Guadeloupe
CALSCALE:GREGORIAN
PRODID:-//IPEOS/Calendar//NONSGML v1.0//FR
X-WR-CALNAME;VALUE=TEXT:Sainte-Anne - L’HEURE DU CONTE
X-WR-CALDESC: Pendant le déconfinement\, la Ville de Sainte-Anne Guadeloupe poursuit ses actions autour du livre. Chaque mercredi à 10h\, nous invitons les enfants à découvrir un conte lors d’une lecture illustrée sur la Page Facebook de la Ville.    EPISODE 13  Pour aborder ce mois de juillet\, le Pôle animation de la Ville vous présente "Lilly et les Ti-mas"\, avec l’aimable autorisation des Editions Jasor.   Lilly habite le joli village de Belzo. Chaque année\, pendant le carnaval\, les rues se parent de (…) 
X-WR-RELCALID:vivre-a-sainte-anne/culture-dans-la-ville/fetes-de-sections/article/l-heure-du-conte-pour-mieux-vivre-le-confinement-a-sainte-anne
BEGIN:VEVENT
SUMMARY:L'HEURE DU CONTE POUR MIEUX VIVRE LE CONFINEMENT A SAINTE-ANNE
UID:evenement641 @ https://www.ville-sainteanne.fr
DTSTAMP:20200430T142900Z
DTSTART:20200429T140000Z
DTEND:20200429T150000Z
CREATED:20200430T142900Z
LAST-MODIFIED:20200430T182900Z
LOCATION:Page Facebook de la Ville de Sainte-Anne
DESCRIPTION:Découvrez "Le Sourire de Manmzelle Lune" de Quincy Gane. Sandrine Trésor monteuse\, comédienne et chanteuse\, a endossé les habits de la conteuse Satyanawal\, Lino Lasserre celui de créateur sonore\, afin d’offrir cette lecture au jeune public. L'histoire : « Aaaaatchoum ! » La lune a attrapé un sacré rhume\, si bien qu’elle a perdu son beau sourire… Docteur Nuage lui recommande Etoile-Clown\, le spécialiste en grimaces. Mais saura-t-il redonner le sourire à Manmzelle Lune ? Petit lecteur\, petite lectrice\, peut-être aura-t-il besoin de votre aide ! – Avec le Pôle animation de la Ville de Sainte-Anne et l'aimable autorisation des éditions Jasor. Auteur : Quincy Gane Maquette et mise en page : No Limits Communication Lecture et montage : Sandrine Trésor alias Satyanawal Enregistrement et illustration sonore : Lino Lasserre Editions Jasor - 2014 Public : enfants de 3 à 6 ans accompagnés d'un parent Prochain RDV\, mercredi 6 mai\, à 10h Découvrez "Le Sourire de Manmzelle Lune" de Quincy Gane. Sandrine Trésor monteuse\, comédienne et chanteuse\, a endossé les habits de la conteuse Satyanawal\, Lino Lasserre celui de créateur sonore\, afin d’offrir cette lecture au jeune public. L'histoire : « Aaaaatchoum ! » La lune a attrapé un sacré rhume\, si bien qu’elle a perdu son beau sourire… Docteur Nuage lui recommande Etoile-Clown\, le spécialiste en grimaces. Mais saura-t-il redonner le sourire à Manmzelle Lune ? Petit lecteur\, petite lectrice\, peut-être aura-t-il besoin de votre aide ! – Avec le Pôle animation de la Ville de Sainte-Anne et l'aimable autorisation des éditions Jasor. Auteur : Quincy Gane Maquette et mise en page : No Limits Communication Lecture et montage : Sandrine Trésor alias Satyanawal Enregistrement et illustration sonore : Lino Lasserre Editions Jasor - 2014 Public : enfants de 3 à 6 ans accompagnés d'un parent Prochain RDV\, mercredi 6 mai\, à 10h 
CATEGORIES:L'HEURE DU CONTE
URL:https://www.ville-sainteanne.fr/vivre-a-sainte-anne/culture-dans-la-ville/fetes-de-sections/article/l-heure-du-conte-pour-mieux-vivre-le-confinement-a-sainte-anne?id_evenement=641

STATUS:CONFIRMED
END:VEVENT
END:VCALENDAR

