BEGIN:VCALENDAR
VERSION:2.0
X-WR-TIMEZONE:America/Guadeloupe
CALSCALE:GREGORIAN
PRODID:-//IPEOS/Calendar//NONSGML v1.0//FR
X-WR-CALNAME;VALUE=TEXT:Sainte-Anne - L’HEURE DU CONTE
X-WR-CALDESC: Pendant le déconfinement\, la Ville de Sainte-Anne Guadeloupe poursuit ses actions autour du livre. Chaque mercredi à 10h\, nous invitons les enfants à découvrir un conte lors d’une lecture illustrée sur la Page Facebook de la Ville.    EPISODE 13  Pour aborder ce mois de juillet\, le Pôle animation de la Ville vous présente "Lilly et les Ti-mas"\, avec l’aimable autorisation des Editions Jasor.   Lilly habite le joli village de Belzo. Chaque année\, pendant le carnaval\, les rues se parent de (…) 
X-WR-RELCALID:vivre-a-sainte-anne/culture-dans-la-ville/fetes-de-sections/article/l-heure-du-conte-pour-mieux-vivre-le-confinement-a-sainte-anne
BEGIN:VEVENT
SUMMARY:L'HEURE DU CONTE
UID:evenement642 @ https://www.ville-sainteanne.fr
DTSTAMP:20200525T134628Z
DTSTART:20200527T140000Z
DTEND:20200527T150000Z
CREATED:20200525T134628Z
LAST-MODIFIED:20200525T191750Z
LOCATION:Page Facebook de la Ville de Sainte-Anne
DESCRIPTION:Découvrez l’histoire de "Lilly et le passage des géantes"\, avec l’aimable autorisation des Editions Jasor. Lilly habite le joli village de Belzo. Contrairement aux autres jours\, les habitants du village s’agitent. Ils barricadent portes et fenêtres\, car ils se préparent au passage de cyclones qui approchent à pas de… géants. Auteur : Sabine Bassien-Capsa Illustratrice : Aurore Lopes Lecture et montage : Ville de Sainte-Anne Public : enfants de 6 à 9 ans accompagnés d’un parent Éditions Jasor - 2018 Découvrez l’histoire de "Lilly et le passage des géantes"\, avec l’aimable autorisation des Editions Jasor. Lilly habite le joli village de Belzo. Contrairement aux autres jours\, les habitants du village s’agitent. Ils barricadent portes et fenêtres\, car ils se préparent au passage de cyclones qui approchent à pas de… géants. Auteur : Sabine Bassien-Capsa Illustratrice : Aurore Lopes Lecture et montage : Ville de Sainte-Anne Public : enfants de 6 à 9 ans accompagnés d’un parent Éditions Jasor - 2018 
CATEGORIES:L'HEURE DU CONTE
URL:https://www.ville-sainteanne.fr/vivre-a-sainte-anne/culture-dans-la-ville/fetes-de-sections/article/l-heure-du-conte-pour-mieux-vivre-le-confinement-a-sainte-anne?id_evenement=642

STATUS:CONFIRMED
END:VEVENT
END:VCALENDAR

