BEGIN:VCALENDAR
VERSION:2.0
X-WR-TIMEZONE:America/Guadeloupe
CALSCALE:GREGORIAN
PRODID:-//IPEOS/Calendar//NONSGML v1.0//FR
X-WR-CALNAME;VALUE=TEXT:Sainte-Anne - L’HEURE DU CONTE
X-WR-CALDESC: Pendant le déconfinement\, la Ville de Sainte-Anne Guadeloupe poursuit ses actions autour du livre. Chaque mercredi à 10h\, nous invitons les enfants à découvrir un conte lors d’une lecture illustrée sur la Page Facebook de la Ville.    EPISODE 13  Pour aborder ce mois de juillet\, le Pôle animation de la Ville vous présente "Lilly et les Ti-mas"\, avec l’aimable autorisation des Editions Jasor.   Lilly habite le joli village de Belzo. Chaque année\, pendant le carnaval\, les rues se parent de (…) 
X-WR-RELCALID:vivre-a-sainte-anne/culture-dans-la-ville/fetes-de-sections/article/l-heure-du-conte-pour-mieux-vivre-le-confinement-a-sainte-anne
BEGIN:VEVENT
SUMMARY:L'HEURE DU CONTE
UID:evenement643 @ https://www.ville-sainteanne.fr
DTSTAMP:20200525T140651Z
DTSTART:20200520T140000Z
DTEND:20200520T150000Z
CREATED:20200525T140651Z
LAST-MODIFIED:20200525T183313Z
LOCATION:Page Facebook de la Ville de Sainte-Anne
DESCRIPTION:Découvrez l’histoire des "3 amies qui aimaient rire - Twa zanmi ki té enmé ri". La lecture animée du conte vous sera proposée en français et en créole !!! Voilà Anaïs avec ses yeux plein de malice\, Dayana et son petit air narquois\, et Magali à la mine réjouie. Que font nos trois amies ? Eh bien\, elles se moquent de tout\, de tout le monde\, et elles rient… Auteur : Mirna Bolus Illustratrice : Aurore Lopes Lecture et montage : Ville de Sainte-Anne Public : enfants de 3 à 6 ans accompagnés d’un parent Éditions Jasor - 2019 Découvrez l’histoire des "3 amies qui aimaient rire - Twa zanmi ki té enmé ri". La lecture animée du conte vous sera proposée en français et en créole !!! Voilà Anaïs avec ses yeux plein de malice\, Dayana et son petit air narquois\, et Magali à la mine réjouie. Que font nos trois amies ? Eh bien\, elles se moquent de tout\, de tout le monde\, et elles rient… Auteur : Mirna Bolus Illustratrice : Aurore Lopes Lecture et montage : Ville de Sainte-Anne Public : enfants de 3 à 6 ans accompagnés d’un parent Éditions Jasor - 2019 
CATEGORIES:L'HEURE DU CONTE
URL:https://www.ville-sainteanne.fr/vivre-a-sainte-anne/culture-dans-la-ville/fetes-de-sections/article/l-heure-du-conte-pour-mieux-vivre-le-confinement-a-sainte-anne?id_evenement=643

STATUS:CONFIRMED
END:VEVENT
END:VCALENDAR

