BEGIN:VCALENDAR
VERSION:2.0
X-WR-TIMEZONE:America/Guadeloupe
CALSCALE:GREGORIAN
PRODID:-//IPEOS/Calendar//NONSGML v1.0//FR
X-WR-CALNAME;VALUE=TEXT:Sainte-Anne - L’HEURE DU CONTE
X-WR-CALDESC: Pendant le déconfinement\, la Ville de Sainte-Anne Guadeloupe poursuit ses actions autour du livre. Chaque mercredi à 10h\, nous invitons les enfants à découvrir un conte lors d’une lecture illustrée sur la Page Facebook de la Ville.    EPISODE 13  Pour aborder ce mois de juillet\, le Pôle animation de la Ville vous présente "Lilly et les Ti-mas"\, avec l’aimable autorisation des Editions Jasor.   Lilly habite le joli village de Belzo. Chaque année\, pendant le carnaval\, les rues se parent de (…) 
X-WR-RELCALID:vivre-a-sainte-anne/culture-dans-la-ville/fetes-de-sections/article/l-heure-du-conte-pour-mieux-vivre-le-confinement-a-sainte-anne
BEGIN:VEVENT
SUMMARY:L'HEURE DU CONTE
UID:evenement644 @ https://www.ville-sainteanne.fr
DTSTAMP:20200525T141007Z
DTSTART:20200513T140000Z
DTEND:20200513T150000Z
CREATED:20200525T141007Z
LAST-MODIFIED:20200525T183232Z
LOCATION:Page Facebook de la ville de Sainte-Anne
DESCRIPTION:Découvrez l’histoire de "Casse-Cou l’acrobate"\, la plus téméraire des chenilles qui veut devenir la championne des acrobates. Blo ! Elle tombe du haut d’un arbre : voilà ses rêves de prouesses anéantis. Qui acceptera de l’aider à se soigner parmi tous ses amis : Araignée ? Zandoli ? Abeille ? ou alors Zwazo ? Auteur : Marie-Hélène Eloi Illustrateur : José Gladone Lecture et montage : Sandrine Trésor alias Satyanawal avec la complicité de Eywa\, Yeelen et Kenyah Enregistrement et illustration sonore : Lino Lasserre Public : enfants de 3 à 6 ans accompagnés d’un parent Éditions Jasor - 2019 Découvrez l’histoire de "Casse-Cou l’acrobate"\, la plus téméraire des chenilles qui veut devenir la championne des acrobates. Blo ! Elle tombe du haut d’un arbre : voilà ses rêves de prouesses anéantis. Qui acceptera de l’aider à se soigner parmi tous ses amis : Araignée ? Zandoli ? Abeille ? ou alors Zwazo ? Auteur : Marie-Hélène Eloi Illustrateur : José Gladone Lecture et montage : Sandrine Trésor alias Satyanawal avec la complicité de Eywa\, Yeelen et Kenyah Enregistrement et illustration sonore : Lino Lasserre Public : enfants de 3 à 6 ans accompagnés d’un parent Éditions Jasor - 2019 
CATEGORIES:L'HEURE DU CONTE
URL:https://www.ville-sainteanne.fr/vivre-a-sainte-anne/culture-dans-la-ville/fetes-de-sections/article/l-heure-du-conte-pour-mieux-vivre-le-confinement-a-sainte-anne?id_evenement=644

STATUS:CONFIRMED
END:VEVENT
END:VCALENDAR

