BEGIN:VCALENDAR
VERSION:2.0
X-WR-TIMEZONE:America/Guadeloupe
CALSCALE:GREGORIAN
PRODID:-//IPEOS/Calendar//NONSGML v1.0//FR
X-WR-CALNAME;VALUE=TEXT:Sainte-Anne - L’HEURE DU CONTE
X-WR-CALDESC: Pendant le déconfinement\, la Ville de Sainte-Anne Guadeloupe poursuit ses actions autour du livre. Chaque mercredi à 10h\, nous invitons les enfants à découvrir un conte lors d’une lecture illustrée sur la Page Facebook de la Ville.    EPISODE 13  Pour aborder ce mois de juillet\, le Pôle animation de la Ville vous présente "Lilly et les Ti-mas"\, avec l’aimable autorisation des Editions Jasor.   Lilly habite le joli village de Belzo. Chaque année\, pendant le carnaval\, les rues se parent de (…) 
X-WR-RELCALID:vivre-a-sainte-anne/culture-dans-la-ville/fetes-de-sections/article/l-heure-du-conte-pour-mieux-vivre-le-confinement-a-sainte-anne
BEGIN:VEVENT
SUMMARY:L'HEURE DU CONTE
UID:evenement645 @ https://www.ville-sainteanne.fr
DTSTAMP:20200525T141631Z
DTSTART:20200506T141400Z
DTEND:20200506T150000Z
CREATED:20200525T141631Z
LAST-MODIFIED:20200525T181631Z
LOCATION:Page Facebook de la ville de Sainte-Anne
DESCRIPTION:Découvrez l’histoire d’une Maman Maskilili bien soucieuse... Maman Maskilili est bien inquiète. Maskilili\, son petit\, malade\, ne guérit pas. Elle décide de partir à la rencontre des esprits de la forêt\, Papa-Bois et Manman-Feuilles\, pour leur demander de l’aide. Mais les Maskilili\, reconnaissables à leurs pieds à l’envers\, sont espiègles et bavards. Maman Maskilili saura-t-elle garder le secret de la guérison de son enfant ! Auteurs : Anique Sylvestre et Quincy Gane Public : enfants de 3 à 6 ans accompagnés d’un parent Éditions Jasor - 2017 Découvrez l’histoire d’une Maman Maskilili bien soucieuse... Maman Maskilili est bien inquiète. Maskilili\, son petit\, malade\, ne guérit pas. Elle décide de partir à la rencontre des esprits de la forêt\, Papa-Bois et Manman-Feuilles\, pour leur demander de l’aide. Mais les Maskilili\, reconnaissables à leurs pieds à l’envers\, sont espiègles et bavards. Maman Maskilili saura-t-elle garder le secret de la guérison de son enfant ! Auteurs : Anique Sylvestre et Quincy Gane Public : enfants de 3 à 6 ans accompagnés d’un parent Éditions Jasor - 2017 
CATEGORIES:L'HEURE DU CONTE
URL:https://www.ville-sainteanne.fr/vivre-a-sainte-anne/culture-dans-la-ville/fetes-de-sections/article/l-heure-du-conte-pour-mieux-vivre-le-confinement-a-sainte-anne?id_evenement=645

STATUS:CONFIRMED
END:VEVENT
END:VCALENDAR

