BEGIN:VCALENDAR
VERSION:2.0
X-WR-TIMEZONE:America/Guadeloupe
CALSCALE:GREGORIAN
PRODID:-//IPEOS/Calendar//NONSGML v1.0//FR
X-WR-CALNAME;VALUE=TEXT:Sainte-Anne - L’HEURE DU CONTE
X-WR-CALDESC: Pendant le déconfinement\, la Ville de Sainte-Anne Guadeloupe poursuit ses actions autour du livre. Chaque mercredi à 10h\, nous invitons les enfants à découvrir un conte lors d’une lecture illustrée sur la Page Facebook de la Ville.    EPISODE 13  Pour aborder ce mois de juillet\, le Pôle animation de la Ville vous présente "Lilly et les Ti-mas"\, avec l’aimable autorisation des Editions Jasor.   Lilly habite le joli village de Belzo. Chaque année\, pendant le carnaval\, les rues se parent de (…) 
X-WR-RELCALID:vivre-a-sainte-anne/culture-dans-la-ville/fetes-de-sections/article/l-heure-du-conte-pour-mieux-vivre-le-confinement-a-sainte-anne
BEGIN:VEVENT
SUMMARY:L'HEURE DU CONTE
UID:evenement646 @ https://www.ville-sainteanne.fr
DTSTAMP:20200602T144619Z
DTSTART:20200603T140000Z
DTEND:20200603T150000Z
CREATED:20200602T144619Z
LAST-MODIFIED:20200602T184732Z
LOCATION:Page Facebook de la Ville de Sainte-Anne
DESCRIPTION:Découvrez "Les trésors de Tikatam"\, avec l’aimable autorisation des Editions Jasor. Boudoum ! fait Tikatam\, le petit tambour. Il se promène chaque jour dans un lieu différent : près de la rivière\, dans la forêt de bambous\, sur la plage... Du lundi au vendredi\, sur sa route\, il rencontre Jak le siyak\, Léon l’accordéon\, Maréa la conque de lambi... Chacun lui raconte ses petits malheurs. Tikatam saura-t-il les soulager\, lui qui a plus d’un trésor dans son sac ? Auteur : Murielle Mathor Lecture et montage : Ville de Sainte-Anne Public : enfants à partir de 6 ans\, accompagnés d’un parent Éditions Jasor (2016) Découvrez "Les trésors de Tikatam"\, avec l’aimable autorisation des Editions Jasor. Boudoum ! fait Tikatam\, le petit tambour. Il se promène chaque jour dans un lieu différent : près de la rivière\, dans la forêt de bambous\, sur la plage... Du lundi au vendredi\, sur sa route\, il rencontre Jak le siyak\, Léon l’accordéon\, Maréa la conque de lambi... Chacun lui raconte ses petits malheurs. Tikatam saura-t-il les soulager\, lui qui a plus d’un trésor dans son sac ? Auteur : Murielle Mathor Lecture et montage : Ville de Sainte-Anne Public : enfants à partir de 6 ans\, accompagnés d’un parent Éditions Jasor (2016) 
CATEGORIES:L'HEURE DU CONTE
URL:https://www.ville-sainteanne.fr/vivre-a-sainte-anne/culture-dans-la-ville/fetes-de-sections/article/l-heure-du-conte-pour-mieux-vivre-le-confinement-a-sainte-anne?id_evenement=646

STATUS:CONFIRMED
END:VEVENT
END:VCALENDAR

