BEGIN:VCALENDAR
VERSION:2.0
X-WR-TIMEZONE:America/Guadeloupe
CALSCALE:GREGORIAN
PRODID:-//IPEOS/Calendar//NONSGML v1.0//FR
X-WR-CALNAME;VALUE=TEXT:Sainte-Anne - L’HEURE DU CONTE
X-WR-CALDESC: Pendant le déconfinement\, la Ville de Sainte-Anne Guadeloupe poursuit ses actions autour du livre. Chaque mercredi à 10h\, nous invitons les enfants à découvrir un conte lors d’une lecture illustrée sur la Page Facebook de la Ville.    EPISODE 13  Pour aborder ce mois de juillet\, le Pôle animation de la Ville vous présente "Lilly et les Ti-mas"\, avec l’aimable autorisation des Editions Jasor.   Lilly habite le joli village de Belzo. Chaque année\, pendant le carnaval\, les rues se parent de (…) 
X-WR-RELCALID:vivre-a-sainte-anne/culture-dans-la-ville/fetes-de-sections/article/l-heure-du-conte-pour-mieux-vivre-le-confinement-a-sainte-anne
BEGIN:VEVENT
SUMMARY:L'HEURE DU CONTE
UID:evenement648 @ https://www.ville-sainteanne.fr
DTSTAMP:20200615T160026Z
DTSTART:20200617T140000Z
DTEND:20200617T150000Z
CREATED:20200615T160026Z
LAST-MODIFIED:20200615T204159Z
LOCATION:Page Facebook de la Ville de Sainte-Anne
DESCRIPTION:Séance spéciale "Fête de la musique" Tikatam\, le petit tambour\, et ses amis Jak\, Tina\, Milo et Maréa courent après les notes. Do\, Ré\, Mi\, Fa\, Sol\, La\, Si et Do "volent comme des oiseaux"\, et c'est parti pour une chasse remplie de découvertes et de surprises... Auteur : Murielle Mathor Lecture : Dominique Dono\, comédienne amateur Montage : Ville de Sainte-Anne Public : enfants à partir de 6 ans\, accompagnés d'un parent Éditions Jasor (2018) Séance spéciale "Fête de la musique" Tikatam\, le petit tambour\, et ses amis Jak\, Tina\, Milo et Maréa courent après les notes. Do\, Ré\, Mi\, Fa\, Sol\, La\, Si et Do "volent comme des oiseaux"\, et c'est parti pour une chasse remplie de découvertes et de surprises... Auteur : Murielle Mathor Lecture : Dominique Dono\, comédienne amateur Montage : Ville de Sainte-Anne Public : enfants à partir de 6 ans\, accompagnés d'un parent Éditions Jasor (2018) 
CATEGORIES:L'HEURE DU CONTE
URL:https://www.ville-sainteanne.fr/vivre-a-sainte-anne/culture-dans-la-ville/fetes-de-sections/article/l-heure-du-conte-pour-mieux-vivre-le-confinement-a-sainte-anne?id_evenement=648

STATUS:CONFIRMED
END:VEVENT
END:VCALENDAR

