BEGIN:VCALENDAR
VERSION:2.0
X-WR-TIMEZONE:America/Guadeloupe
CALSCALE:GREGORIAN
PRODID:-//IPEOS/Calendar//NONSGML v1.0//FR
X-WR-CALNAME;VALUE=TEXT:Sainte-Anne - 21 JUIN 2020 : FÊTE DE LA MUSIQUE
X-WR-CALDESC:En raison de l’épidémie de Coronavirus\, la Ville de Sainte-Anne s’adapte au quotidien pour permettre à la population de mieux vivre cette période particulière. Véritable vivier de musiciens et aussi magnifique creuset d’initiatives en matière musicale\, la Ville entend célébrer différemment la Fête de la musique\, toute la semaine\, jusqu’au dimanche 21 juin 2020. La collectivité propose donc plusieurs temps forts à suivre de façon connectée sur les réseaux sociaux.
X-WR-RELCALID:vivre-a-sainte-anne/culture-dans-la-ville/programme-mensuel-des-animations-de-la-ville/article/21-juin-2020-fete-de-la-musique
BEGIN:VEVENT
SUMMARY:Concert solidaire avec l'association Guadeloupe Patrimoine
UID:evenement650 @ https://www.ville-sainteanne.fr
DTSTAMP:20200619T141430Z
DTSTART:20200621T200000Z
DTEND:20200622T000000Z
CREATED:20200619T141430Z
LAST-MODIFIED:20200619T190339Z
LOCATION:Page Facebook de la ville de Sainte-Anne
DESCRIPTION:Des animations musicales seront proposées tout au long de la journée par l'association Guadeloupe Patrimoine PROGRAMME Un bœuf musical des associations de la Ville de Sainte-Anne sera diffusé en Facebook Live sur la page évènement La Galerie Lethiere : Concert solidaire Fête de la musique 2020 De plus\, de 10h à 22h\, la musique résonnera à La Galerie Lethiere et vous pourrez en profiter de chez vous\, avec au programme du LIVE : de 15h00 à 15h30 : Jénérasyon Karayib de 15h30 à 16h 00 : Les anciens de KIMBOL de 16h00 à 18h00 : Lakou Veranda de 18h00 à 22h00 : Boeuf musical Aussi\, pour soutenir les acteurs culturels du territoire qui traversent des difficultés pendant cette période exceptionnelle de crise sanitaire\, vous avez la possibilité de faire un don de 5 €\, 10€\, 20€\, 50€ ou même 100€ en cliquant ici La totalité de la cagnotte sera reversée aux associations et artistes ayant participé au concert solidaire. Des animations musicales seront proposées tout au long de la journée par l'association Guadeloupe Patrimoine PROGRAMME Un bœuf musical des associations de la Ville de Sainte-Anne sera diffusé en Facebook Live sur la page évènement La Galerie Lethiere : Concert solidaire Fête de la musique 2020 De plus\, de 10h à 22h\, la musique résonnera à La Galerie Lethiere et vous pourrez en profiter de chez vous\, avec au programme du LIVE : de 15h00 à 15h30 : Jénérasyon Karayib de 15h30 à 16h 00 : Les anciens de KIMBOL de 16h00 à 18h00 : Lakou Veranda de 18h00 à 22h00 : Boeuf musical Aussi\, pour soutenir les acteurs culturels du territoire qui traversent des difficultés pendant cette période exceptionnelle de crise sanitaire\, vous avez la possibilité de faire un don de 5 €\, 10€\, 20€\, 50€ ou même 100€ en cliquant ici La totalité de la cagnotte sera reversée aux associations et artistes ayant participé au concert solidaire. 
CATEGORIES:21 JUIN 2020 : FÊTE DE LA MUSIQUE
URL:https://www.ville-sainteanne.fr/vivre-a-sainte-anne/culture-dans-la-ville/programme-mensuel-des-animations-de-la-ville/article/21-juin-2020-fete-de-la-musique?id_evenement=650

STATUS:CONFIRMED
END:VEVENT
END:VCALENDAR

