BEGIN:VCALENDAR
VERSION:2.0
X-WR-TIMEZONE:America/Guadeloupe
CALSCALE:GREGORIAN
PRODID:-//IPEOS/Calendar//NONSGML v1.0//FR
X-WR-CALNAME;VALUE=TEXT:Sainte-Anne - L’HEURE DU CONTE
X-WR-CALDESC: Pendant le déconfinement\, la Ville de Sainte-Anne Guadeloupe poursuit ses actions autour du livre. Chaque mercredi à 10h\, nous invitons les enfants à découvrir un conte lors d’une lecture illustrée sur la Page Facebook de la Ville.    EPISODE 13  Pour aborder ce mois de juillet\, le Pôle animation de la Ville vous présente "Lilly et les Ti-mas"\, avec l’aimable autorisation des Editions Jasor.   Lilly habite le joli village de Belzo. Chaque année\, pendant le carnaval\, les rues se parent de (…) 
X-WR-RELCALID:vivre-a-sainte-anne/culture-dans-la-ville/fetes-de-sections/article/l-heure-du-conte-pour-mieux-vivre-le-confinement-a-sainte-anne
BEGIN:VEVENT
SUMMARY:L'HEURE DU CONTE
UID:evenement652 @ https://www.ville-sainteanne.fr
DTSTAMP:20200623T163227Z
DTSTART:20200624T140000Z
DTEND:20200624T150000Z
CREATED:20200623T163227Z
LAST-MODIFIED:20200624T181130Z
LOCATION:Page Facebook de la ville de Sainte-Anne
DESCRIPTION:Pour ce nouvel épisode\, le Pôle animation de la Ville vous présente "Les longues nattes de Poética"\, avec l’aimable autorisation des Editions Jasor. Poética aurait pu être une petite fille comme les autres. Mais voilà\, la nature l'a dotée d'une chevelure extraordinaire. Parfois\, elle se prend les pieds dans ses longues\, très longues nattes\, et trébuche. Ses camarades se moquent d'elle et l'évitent car ils ne veulent pas être amis avec une enfant aussi...bizarre. Elle connait un moyen pour se consoler : elle ferme les yeux et ses longues\, très longues nattes\, l'emmènent vers des aventures incroyables. Mais son voisin le potier\, le méchant Gaël\, a découvert son secret... Auteur : Marielle Plaisir Lecture et montage : Ville de Sainte-Anne Public : enfants à partir de 6 ans\, accompagnés d'un parent Éditions Jasor (2012)
CATEGORIES:L'HEURE DU CONTE
URL:https://www.ville-sainteanne.fr/vivre-a-sainte-anne/culture-dans-la-ville/fetes-de-sections/article/l-heure-du-conte-pour-mieux-vivre-le-confinement-a-sainte-anne?id_evenement=652

STATUS:CONFIRMED
END:VEVENT
END:VCALENDAR

