BEGIN:VCALENDAR
VERSION:2.0
X-WR-TIMEZONE:America/Guadeloupe
CALSCALE:GREGORIAN
PRODID:-//IPEOS/Calendar//NONSGML v1.0//FR
X-WR-CALNAME;VALUE=TEXT:Sainte-Anne - CONSEIL MUNICIPAL DU VENDREDI 23 SEPTEMBRE 2022
X-WR-CALDESC: La Ville de Sainte-Anne vous informe de la tenue du prochain Conseil Municipal le vendredi 23 septembre 2022\, à 16h\, en salle de délibérations de la mairie.   Lors du premier conseil municipal du nouvel exécutif\, le Maire Francs BAPTISTE et les élus délibéreront sur les sujets suivants :   1. Création et composition de la Commission d’Appel d’Offres   2. Désignation des membres de la commission communale pour l’accessibilité   3. Subventions aux associations   4. Avenant à la garantie (…) 
X-WR-RELCALID:actualites/article/conseil-municipal-du-vendredi-23-septembre-2022
BEGIN:VEVENT
SUMMARY:CONSEIL MUNICIPAL DU VENDREDI 23 SEPTEMBRE 2022
UID:evenement863 @ https://www.ville-sainteanne.fr
DTSTAMP:20220921T143801Z
DTSTART:20220923T200000Z
DTEND:20220923T223000Z
CREATED:20220921T143801Z
LAST-MODIFIED:20220921T183847Z
DESCRIPTION:La Ville de Sainte-Anne vous informe de la tenue du prochain Conseil Municipal le vendredi 23 septembre 2022\, à 16h\, en salle de délibérations de la mairie. Évènement à suivre en Facebook live et en rediffusion sur Canal 10
CATEGORIES:CONSEIL MUNICIPAL DU VENDREDI 23 SEPTEMBRE 2022
URL:https://www.ville-sainteanne.fr/actualites/article/conseil-municipal-du-vendredi-23-septembre-2022?id_evenement=863

STATUS:CONFIRMED
END:VEVENT
END:VCALENDAR

