BEGIN:VCALENDAR
VERSION:2.0
X-WR-TIMEZONE:America/Guadeloupe
CALSCALE:GREGORIAN
PRODID:-//IPEOS/Calendar//NONSGML v1.0//FR
X-WR-CALNAME;VALUE=TEXT:Sainte-Anne - NOAM\, jeune artiste saintannaise prometteuse\, expose pour la 1ère fois au Centre culturel
X-WR-CALDESC: NOAM est une jeune artiste plasticienne de 16 ans. Saintannaise\, c’est une ancienne élève de l’école Mixte 2\, à l’époque où Jacques KANCEL en était le directeur. Devenu adjoint au Maire délégué à la Culture\, ce dernier ne pouvait passer à côté d’un tel talent et se devait de lui proposer une tribune qui marquera\, nous l’espérons\, le début d’une longue et belle carrière.    "Elle est jeune. Elle accorde une importance exceptionnelle à l’expression personnelle et à la créativité.  Ses dons de (…) 
X-WR-RELCALID:vivre-a-sainte-anne/culture-dans-la-ville/centre-culturel/article/noam-jeune-artiste-saintannaise-prometteuse-expose-pour-la-1ere-fois-au-centre
BEGIN:VEVENT
SUMMARY:Vernissage de "Roulement"\, l'exposition inédite et exceptionnelle de la jeune artiste saintannaise NOAM\, à découvrir absolument !
UID:evenement999 @ https://www.ville-sainteanne.fr
DTSTAMP:20231023T201701Z
DTSTART:20231026T230000Z
DTEND:20231027T000000Z
CREATED:20231023T201701Z
LAST-MODIFIED:20231024T011203Z
LOCATION:Centre culturel
DESCRIPTION:NOAM est une jeune artiste plasticienne de 16 ans. Saintannaise\, c'est une ancienne élève de l'école Mixte 1\, à l'époque où Jacques KANCEL en était le directeur. Devenu adjoint au Maire délégué à la Culture\, ce dernier ne pouvait passer à côté d'un tel talent et se devait de lui proposer une tribune qui marquera\, nous l'espérons\, le début d'une longue et belle carrière. NOAM est une jeune artiste plasticienne de 16 ans. Saintannaise\, c'est une ancienne élève de l'école Mixte 1\, à l'époque où Jacques KANCEL en était le directeur. Devenu adjoint au Maire délégué à la Culture\, ce dernier ne pouvait passer à côté d'un tel talent et se devait de lui proposer une tribune qui marquera\, nous l'espérons\, le début d'une longue et belle carrière. 
CATEGORIES:NOAM\, jeune artiste saintannaise prometteuse\, expose pour la 1ère fois au Centre culturel
URL:https://www.ville-sainteanne.fr/vivre-a-sainte-anne/culture-dans-la-ville/centre-culturel/article/noam-jeune-artiste-saintannaise-prometteuse-expose-pour-la-1ere-fois-au-centre?id_evenement=999

STATUS:CONFIRMED
END:VEVENT
END:VCALENDAR

